BEGIN:VCALENDAR
VERSION:2.0
PRODID:-//St. Mary&#039;s RC Primary and Nursery School - ECPv6.15.20//NONSGML v1.0//EN
CALSCALE:GREGORIAN
METHOD:PUBLISH
X-WR-CALNAME:St. Mary&#039;s RC Primary and Nursery School
X-ORIGINAL-URL:https://stmarysdenton.com
X-WR-CALDESC:Events for St. Mary&#039;s RC Primary and Nursery School
REFRESH-INTERVAL;VALUE=DURATION:PT1H
X-Robots-Tag:noindex
X-PUBLISHED-TTL:PT1H
BEGIN:VTIMEZONE
TZID:Europe/London
BEGIN:DAYLIGHT
TZOFFSETFROM:+0000
TZOFFSETTO:+0100
TZNAME:BST
DTSTART:20190331T010000
END:DAYLIGHT
BEGIN:STANDARD
TZOFFSETFROM:+0100
TZOFFSETTO:+0000
TZNAME:GMT
DTSTART:20191027T010000
END:STANDARD
BEGIN:DAYLIGHT
TZOFFSETFROM:+0000
TZOFFSETTO:+0100
TZNAME:BST
DTSTART:20200329T010000
END:DAYLIGHT
BEGIN:STANDARD
TZOFFSETFROM:+0100
TZOFFSETTO:+0000
TZNAME:GMT
DTSTART:20201025T010000
END:STANDARD
BEGIN:DAYLIGHT
TZOFFSETFROM:+0000
TZOFFSETTO:+0100
TZNAME:BST
DTSTART:20210328T010000
END:DAYLIGHT
BEGIN:STANDARD
TZOFFSETFROM:+0100
TZOFFSETTO:+0000
TZNAME:GMT
DTSTART:20211031T010000
END:STANDARD
BEGIN:DAYLIGHT
TZOFFSETFROM:+0000
TZOFFSETTO:+0100
TZNAME:BST
DTSTART:20220327T010000
END:DAYLIGHT
BEGIN:STANDARD
TZOFFSETFROM:+0100
TZOFFSETTO:+0000
TZNAME:GMT
DTSTART:20221030T010000
END:STANDARD
END:VTIMEZONE
BEGIN:VEVENT
DTSTART;TZID=Europe/London:20211115T080000
DTEND;TZID=Europe/London:20211115T170000
DTSTAMP:20260422T052450
CREATED:20211108T144255Z
LAST-MODIFIED:20211108T144510Z
UID:22501-1636963200-1636995600@stmarysdenton.com
SUMMARY:Anti-Bullying Week (15th-19th November) - One Kind Word - Odd Sock Day
DESCRIPTION:
URL:https://stmarysdenton.com/event/anti-bullying-week-15th-19th-november-one-kind-word-odd-sock-day/
END:VEVENT
BEGIN:VEVENT
DTSTART;TZID=Europe/London:20211112T090000
DTEND;TZID=Europe/London:20211119T170000
DTSTAMP:20260422T052450
CREATED:20211018T151526Z
LAST-MODIFIED:20211112T093441Z
UID:22451-1636707600-1637341200@stmarysdenton.com
SUMMARY:FOSM / Children in Need - cake sale (online donations)
DESCRIPTION:
URL:https://stmarysdenton.com/event/fosm-children-in-need-cake-sale-online-donations/
END:VEVENT
BEGIN:VEVENT
DTSTART;TZID=Europe/London:20211108T090000
DTEND;TZID=Europe/London:20211108T170000
DTSTAMP:20260422T052450
CREATED:20211018T151340Z
LAST-MODIFIED:20211018T151340Z
UID:22447-1636362000-1636390800@stmarysdenton.com
SUMMARY:Maths Week England
DESCRIPTION:
URL:https://stmarysdenton.com/event/maths-week-england/
END:VEVENT
BEGIN:VEVENT
DTSTART;TZID=Europe/London:20211106T080000
DTEND;TZID=Europe/London:20211106T170000
DTSTAMP:20260422T052450
CREATED:20211018T151425Z
LAST-MODIFIED:20211018T151425Z
UID:22449-1636185600-1636218000@stmarysdenton.com
SUMMARY:Cross Country Grand Prix - East Cheshire Harriers
DESCRIPTION:
URL:https://stmarysdenton.com/event/cross-country-grand-prix-east-cheshire-harriers/
END:VEVENT
BEGIN:VEVENT
DTSTART;TZID=Europe/London:20211105T090000
DTEND;TZID=Europe/London:20211105T113000
DTSTAMP:20260422T052450
CREATED:20211018T151238Z
LAST-MODIFIED:20211018T151238Z
UID:22445-1636102800-1636111800@stmarysdenton.com
SUMMARY:Y6 Health Checks (am)
DESCRIPTION:
URL:https://stmarysdenton.com/event/y6-health-checks-am/
END:VEVENT
BEGIN:VEVENT
DTSTART;TZID=Europe/London:20211104T090000
DTEND;TZID=Europe/London:20211104T113000
DTSTAMP:20260422T052450
CREATED:20211018T150750Z
LAST-MODIFIED:20211018T152648Z
UID:22439-1636016400-1636025400@stmarysdenton.com
SUMMARY:F2 Health Checks (am)
DESCRIPTION:
URL:https://stmarysdenton.com/event/y1-vision-checks-am/
END:VEVENT
BEGIN:VEVENT
DTSTART;TZID=Europe/London:20211102T090000
DTEND;TZID=Europe/London:20211102T150000
DTSTAMP:20260422T052450
CREATED:20211018T153442Z
LAST-MODIFIED:20211018T153442Z
UID:22466-1635843600-1635865200@stmarysdenton.com
SUMMARY:Y6 Bonfire Campaign 2021 Talk with Fire Service
DESCRIPTION:
URL:https://stmarysdenton.com/event/y6-bonfire-campaign-2021-talk-with-fire-service/
END:VEVENT
BEGIN:VEVENT
DTSTART;TZID=Europe/London:20211102T090000
DTEND;TZID=Europe/London:20211102T113000
DTSTAMP:20260422T052450
CREATED:20211018T151149Z
LAST-MODIFIED:20211018T151149Z
UID:22443-1635843600-1635852600@stmarysdenton.com
SUMMARY:Y1 Vision Checks (am)
DESCRIPTION:
URL:https://stmarysdenton.com/event/y1-vision-checks-am-2/
END:VEVENT
BEGIN:VEVENT
DTSTART;VALUE=DATE:20211101
DTEND;VALUE=DATE:20211103
DTSTAMP:20260422T052450
CREATED:20210326T092203Z
LAST-MODIFIED:20210326T092203Z
UID:22248-1635739200-1635825599@stmarysdenton.com
SUMMARY:School opens for Autumn Term 2
DESCRIPTION:
URL:https://stmarysdenton.com/event/school-opens-for-autumn-term-2/
END:VEVENT
BEGIN:VEVENT
DTSTART;VALUE=DATE:20211022
DTEND;VALUE=DATE:20211024
DTSTAMP:20260422T052450
CREATED:20210326T092644Z
LAST-MODIFIED:20210326T092644Z
UID:22268-1634875200-1634961599@stmarysdenton.com
SUMMARY:School Closes for Half Term
DESCRIPTION:
URL:https://stmarysdenton.com/event/school-closes-for-half-term/
END:VEVENT
BEGIN:VEVENT
DTSTART;VALUE=DATE:20210915
DTEND;VALUE=DATE:20210917
DTSTAMP:20260422T052450
CREATED:20210910T151252Z
LAST-MODIFIED:20210910T151824Z
UID:22408-1631678400-1631764799@stmarysdenton.com
SUMMARY:Feast of Our Lady of Sorrows (Patron Saint of St. Mary's)
DESCRIPTION:
URL:https://stmarysdenton.com/event/feast-of-our-lady-of-sorrow-patron-saint-of-st-marys/
END:VEVENT
BEGIN:VEVENT
DTSTART;VALUE=DATE:20210902
DTEND;VALUE=DATE:20210904
DTSTAMP:20260422T052450
CREATED:20210326T092134Z
LAST-MODIFIED:20210326T092134Z
UID:22246-1630555200-1630641599@stmarysdenton.com
SUMMARY:School opens for Autumn Term 1
DESCRIPTION:
URL:https://stmarysdenton.com/event/school-opens-for-autumn-term-1/
END:VEVENT
BEGIN:VEVENT
DTSTART;VALUE=DATE:20210901
DTEND;VALUE=DATE:20210903
DTSTAMP:20260422T052450
CREATED:20210326T092434Z
LAST-MODIFIED:20210326T092434Z
UID:22258-1630468800-1630555199@stmarysdenton.com
SUMMARY:INSET Day
DESCRIPTION:
URL:https://stmarysdenton.com/event/inset-day/
END:VEVENT
BEGIN:VEVENT
DTSTART;TZID=Europe/London:20200712T110000
DTEND;TZID=Europe/London:20200712T110000
DTSTAMP:20260422T052450
CREATED:20200226T124701Z
LAST-MODIFIED:20200226T125405Z
UID:19052-1594551600-1594551600@stmarysdenton.com
SUMMARY:Sacrament of First Holy Communion
DESCRIPTION:
URL:https://stmarysdenton.com/event/sacrament-of-first-holy-communion-3/
END:VEVENT
BEGIN:VEVENT
DTSTART;TZID=Europe/London:20200628T110000
DTEND;TZID=Europe/London:20200628T110000
DTSTAMP:20260422T052450
CREATED:20200226T124625Z
LAST-MODIFIED:20200226T124625Z
UID:19050-1593342000-1593342000@stmarysdenton.com
SUMMARY:Sacrament of First Holy Communion
DESCRIPTION:
URL:https://stmarysdenton.com/event/sacrament-of-first-holy-communion-2/
LOCATION:St. Mary’s R.C. Church\, Duke Street\, Denton\, M34 2AN
END:VEVENT
BEGIN:VEVENT
DTSTART;TZID=Europe/London:20200614T110000
DTEND;TZID=Europe/London:20200614T110000
DTSTAMP:20260422T052450
CREATED:20200226T124554Z
LAST-MODIFIED:20200226T124554Z
UID:19048-1592132400-1592132400@stmarysdenton.com
SUMMARY:Sacrament of First Holy Communion
DESCRIPTION:
URL:https://stmarysdenton.com/event/sacrament-of-first-holy-communion/
LOCATION:St. Mary’s R.C. Church\, Duke Street\, Denton\, M34 2AN
END:VEVENT
BEGIN:VEVENT
DTSTART;TZID=Europe/London:20200520T153000
DTEND;TZID=Europe/London:20200520T163000
DTSTAMP:20260422T052450
CREATED:20200226T124434Z
LAST-MODIFIED:20200226T124434Z
UID:19046-1589988600-1589992200@stmarysdenton.com
SUMMARY:Sacramental Programme: Catch up children's meeting
DESCRIPTION:
URL:https://stmarysdenton.com/event/sacramental-programme-catch-up-childrens-meeting-3/
LOCATION:St. Mary’s Parish Centre
END:VEVENT
BEGIN:VEVENT
DTSTART;TZID=Europe/London:20200517T150000
DTEND;TZID=Europe/London:20200517T160000
DTSTAMP:20260422T052450
CREATED:20200226T124114Z
LAST-MODIFIED:20200226T124345Z
UID:19042-1589727600-1589731200@stmarysdenton.com
SUMMARY:Sacramental Programme: Children's meeting
DESCRIPTION:
URL:https://stmarysdenton.com/event/sacramental-programme-catch-up-childrens-meeting-2/
LOCATION:St. Mary’s Parish Centre
END:VEVENT
BEGIN:VEVENT
DTSTART;TZID=Europe/London:20200426T150000
DTEND;TZID=Europe/London:20200426T160000
DTSTAMP:20260422T052450
CREATED:20200226T123507Z
LAST-MODIFIED:20200226T123507Z
UID:19040-1587913200-1587916800@stmarysdenton.com
SUMMARY:Sacramental Programme: Children's meeting
DESCRIPTION:
URL:https://stmarysdenton.com/event/sacramental-programme-childrens-meeting-4/
LOCATION:St. Mary’s Parish Centre
END:VEVENT
BEGIN:VEVENT
DTSTART;TZID=Europe/London:20200403T140000
DTEND;TZID=Europe/London:20200403T144000
DTSTAMP:20260422T052450
CREATED:20200206T164447Z
LAST-MODIFIED:20200206T164447Z
UID:18874-1585922400-1585924800@stmarysdenton.com
SUMMARY:Years 3 and 4 Easter Play - all welcome - tbc
DESCRIPTION:
URL:https://stmarysdenton.com/event/years-3-and-4-easter-play-all-welcome-tbc/
LOCATION:St. Mary’s R.C. Church\, Duke Street\, Denton\, M34 2AN
CATEGORIES:Y3,Y4
END:VEVENT
BEGIN:VEVENT
DTSTART;TZID=Europe/London:20200403T085500
DTEND;TZID=Europe/London:20200403T151500
DTSTAMP:20260422T052450
CREATED:20200206T164532Z
LAST-MODIFIED:20200206T164532Z
UID:18876-1585904100-1585926900@stmarysdenton.com
SUMMARY:School closes for Easter
DESCRIPTION:
URL:https://stmarysdenton.com/event/school-closes-for-easter-2/
END:VEVENT
BEGIN:VEVENT
DTSTART;TZID=Europe/London:20200402T093000
DTEND;TZID=Europe/London:20200402T100000
DTSTAMP:20260422T052450
CREATED:20200206T164232Z
LAST-MODIFIED:20200206T164232Z
UID:18872-1585819800-1585821600@stmarysdenton.com
SUMMARY:EYFS and KS1 Easter Bonnet Parade
DESCRIPTION:
URL:https://stmarysdenton.com/event/eyfs-and-ks1-easter-bonnet-parade-2/
CATEGORIES:EYFS,Y1,Y2
END:VEVENT
BEGIN:VEVENT
DTSTART;TZID=Europe/London:20200401T085500
DTEND;TZID=Europe/London:20200401T151500
DTSTAMP:20260422T052450
CREATED:20200206T164101Z
LAST-MODIFIED:20200206T164101Z
UID:18870-1585731300-1585754100@stmarysdenton.com
SUMMARY:PTA Event - Easter Egg Raffle
DESCRIPTION:
URL:https://stmarysdenton.com/event/pta-event-easter-egg-raffle/
END:VEVENT
BEGIN:VEVENT
DTSTART;TZID=Europe/London:20200325T163000
DTEND;TZID=Europe/London:20200325T180000
DTSTAMP:20260422T052450
CREATED:20200206T130127Z
LAST-MODIFIED:20200206T130127Z
UID:18868-1585153800-1585159200@stmarysdenton.com
SUMMARY:Picture Stations of the Cross with St Thomas More and St John Fisher
DESCRIPTION:
URL:https://stmarysdenton.com/event/picture-stations-of-the-cross-with-st-thomas-more-and-st-john-fisher/
LOCATION:St. Mary’s R.C. Church\, Duke Street\, Denton\, M34 2AN
END:VEVENT
BEGIN:VEVENT
DTSTART;TZID=Europe/London:20200319T153000
DTEND;TZID=Europe/London:20200319T180000
DTSTAMP:20260422T052450
CREATED:20200206T125949Z
LAST-MODIFIED:20200206T125949Z
UID:18866-1584631800-1584640800@stmarysdenton.com
SUMMARY:KS1 and KS2 Parent meetings - details to follow
DESCRIPTION:
URL:https://stmarysdenton.com/event/ks1-and-ks2-parent-meetings-details-to-follow/
END:VEVENT
BEGIN:VEVENT
DTSTART;TZID=Europe/London:20200317T151500
DTEND;TZID=Europe/London:20200317T173000
DTSTAMP:20260422T052450
CREATED:20200206T125857Z
LAST-MODIFIED:20200206T125857Z
UID:18864-1584458100-1584466200@stmarysdenton.com
SUMMARY:Tameside Volleyball Competition
DESCRIPTION:
URL:https://stmarysdenton.com/event/tameside-volleyball-competition/
LOCATION:Astley Sports College
END:VEVENT
BEGIN:VEVENT
DTSTART;TZID=Europe/London:20200314T110000
DTEND;TZID=Europe/London:20200314T110000
DTSTAMP:20260422T052450
CREATED:20200226T123335Z
LAST-MODIFIED:20200226T123335Z
UID:19038-1584183600-1584183600@stmarysdenton.com
SUMMARY:Sacrament of Reconciliation
DESCRIPTION:
URL:https://stmarysdenton.com/event/sacrament-of-reconciliation-3/
LOCATION:St. Mary’s R.C. Church\, Duke Street\, Denton\, M34 2AN
END:VEVENT
BEGIN:VEVENT
DTSTART;TZID=Europe/London:20200314T090500
DTEND;TZID=Europe/London:20200314T093000
DTSTAMP:20260422T052450
CREATED:20200206T125726Z
LAST-MODIFIED:20200206T125726Z
UID:18862-1584176700-1584178200@stmarysdenton.com
SUMMARY:Sacramental programme: Reconciliation
DESCRIPTION:
URL:https://stmarysdenton.com/event/sacramental-programme-reconciliation-2/
LOCATION:St. Mary’s R.C. Church\, Duke Street\, Denton\, M34 2AN
END:VEVENT
BEGIN:VEVENT
DTSTART;TZID=Europe/London:20200313T090000
DTEND;TZID=Europe/London:20200313T093000
DTSTAMP:20260422T052450
CREATED:20200128T125754Z
LAST-MODIFIED:20200128T125754Z
UID:18794-1584090000-1584091800@stmarysdenton.com
SUMMARY:Stay and Learn Parent Workshop (Guided Reading) - Y6
DESCRIPTION:
URL:https://stmarysdenton.com/event/stay-and-learn-parent-workshop-guided-reading-y6/
CATEGORIES:Y6
END:VEVENT
BEGIN:VEVENT
DTSTART;TZID=Europe/London:20200312T153000
DTEND;TZID=Europe/London:20200312T180000
DTSTAMP:20260422T052450
CREATED:20200206T125506Z
LAST-MODIFIED:20200206T125506Z
UID:18860-1584027000-1584036000@stmarysdenton.com
SUMMARY:KS1 & KS2 Parent Meetings - details to follow
DESCRIPTION:
URL:https://stmarysdenton.com/event/ks1-ks2-parent-meetings-details-to-follow/
END:VEVENT
END:VCALENDAR