BEGIN:VCALENDAR
VERSION:2.0
PRODID:-//St. Mary&#039;s RC Primary and Nursery School - ECPv6.15.20//NONSGML v1.0//EN
CALSCALE:GREGORIAN
METHOD:PUBLISH
X-WR-CALNAME:St. Mary&#039;s RC Primary and Nursery School
X-ORIGINAL-URL:https://stmarysdenton.com
X-WR-CALDESC:Events for St. Mary&#039;s RC Primary and Nursery School
REFRESH-INTERVAL;VALUE=DURATION:PT1H
X-Robots-Tag:noindex
X-PUBLISHED-TTL:PT1H
BEGIN:VTIMEZONE
TZID:Europe/London
BEGIN:DAYLIGHT
TZOFFSETFROM:+0000
TZOFFSETTO:+0100
TZNAME:BST
DTSTART:20180325T010000
END:DAYLIGHT
BEGIN:STANDARD
TZOFFSETFROM:+0100
TZOFFSETTO:+0000
TZNAME:GMT
DTSTART:20181028T010000
END:STANDARD
BEGIN:DAYLIGHT
TZOFFSETFROM:+0000
TZOFFSETTO:+0100
TZNAME:BST
DTSTART:20190331T010000
END:DAYLIGHT
BEGIN:STANDARD
TZOFFSETFROM:+0100
TZOFFSETTO:+0000
TZNAME:GMT
DTSTART:20191027T010000
END:STANDARD
BEGIN:DAYLIGHT
TZOFFSETFROM:+0000
TZOFFSETTO:+0100
TZNAME:BST
DTSTART:20200329T010000
END:DAYLIGHT
BEGIN:STANDARD
TZOFFSETFROM:+0100
TZOFFSETTO:+0000
TZNAME:GMT
DTSTART:20201025T010000
END:STANDARD
BEGIN:DAYLIGHT
TZOFFSETFROM:+0000
TZOFFSETTO:+0100
TZNAME:BST
DTSTART:20210328T010000
END:DAYLIGHT
BEGIN:STANDARD
TZOFFSETFROM:+0100
TZOFFSETTO:+0000
TZNAME:GMT
DTSTART:20211031T010000
END:STANDARD
END:VTIMEZONE
BEGIN:VEVENT
DTSTART;TZID=Europe/London:20200311T153000
DTEND;TZID=Europe/London:20200311T163000
DTSTAMP:20260422T091144
CREATED:20200226T123140Z
LAST-MODIFIED:20200226T123140Z
UID:19036-1583940600-1583944200@stmarysdenton.com
SUMMARY:Sacramental Programme: Catch up children's meeting
DESCRIPTION:
URL:https://stmarysdenton.com/event/sacramental-programme-catch-up-childrens-meeting/
LOCATION:St. Mary’s Parish Centre
END:VEVENT
BEGIN:VEVENT
DTSTART;TZID=Europe/London:20200311T090000
DTEND;TZID=Europe/London:20200311T093000
DTSTAMP:20260422T091144
CREATED:20200128T125647Z
LAST-MODIFIED:20200128T125647Z
UID:18792-1583917200-1583919000@stmarysdenton.com
SUMMARY:Stay and Learn Parent Workshop (Guided Reading) - Y5
DESCRIPTION:
URL:https://stmarysdenton.com/event/stay-and-learn-parent-workshop-guided-reading-y5/
CATEGORIES:Y5
END:VEVENT
BEGIN:VEVENT
DTSTART;TZID=Europe/London:20200310T090000
DTEND;TZID=Europe/London:20200310T093000
DTSTAMP:20260422T091144
CREATED:20200128T125341Z
LAST-MODIFIED:20200128T125341Z
UID:18790-1583830800-1583832600@stmarysdenton.com
SUMMARY:Stay and Learn Parent Workshop (Guided Reading) - Y4
DESCRIPTION:
URL:https://stmarysdenton.com/event/stay-and-learn-parent-workshop-guided-reading-y4/
CATEGORIES:Y4
END:VEVENT
BEGIN:VEVENT
DTSTART;TZID=Europe/London:20200310T085500
DTEND;TZID=Europe/London:20200310T121500
DTSTAMP:20260422T091144
CREATED:20200206T125307Z
LAST-MODIFIED:20200206T125319Z
UID:18858-1583830500-1583842500@stmarysdenton.com
SUMMARY:EYFS Trip to Sea Life Centre
DESCRIPTION:
URL:https://stmarysdenton.com/event/eyfs-trip-to-sea-life-centre/
CATEGORIES:EYFS
END:VEVENT
BEGIN:VEVENT
DTSTART;TZID=Europe/London:20200308T150000
DTEND;TZID=Europe/London:20200308T160000
DTSTAMP:20260422T091144
CREATED:20200226T123024Z
LAST-MODIFIED:20200226T123024Z
UID:19034-1583679600-1583683200@stmarysdenton.com
SUMMARY:Sacramental Programme: Children's Meeting
DESCRIPTION:
URL:https://stmarysdenton.com/event/sacramental-programme-childrens-meeting-3/
LOCATION:St. Mary’s Parish Centre
END:VEVENT
BEGIN:VEVENT
DTSTART;TZID=Europe/London:20200306T181500
DTEND;TZID=Europe/London:20200306T200000
DTSTAMP:20260422T091144
CREATED:20200206T125123Z
LAST-MODIFIED:20200206T125123Z
UID:18856-1583518500-1583524800@stmarysdenton.com
SUMMARY:TCSSA Swimming Gala
DESCRIPTION:
URL:https://stmarysdenton.com/event/tcssa-swimming-gala-5/
LOCATION:Denton Pool
END:VEVENT
BEGIN:VEVENT
DTSTART;TZID=Europe/London:20200306T090000
DTEND;TZID=Europe/London:20200306T093000
DTSTAMP:20260422T091144
CREATED:20200128T125210Z
LAST-MODIFIED:20200128T125210Z
UID:18788-1583485200-1583487000@stmarysdenton.com
SUMMARY:Stay and Learn Parent Workshop (Guided Reading) - Y3
DESCRIPTION:
URL:https://stmarysdenton.com/event/stay-and-learn-parent-workshop-guided-reading-y3/
CATEGORIES:Y3
END:VEVENT
BEGIN:VEVENT
DTSTART;TZID=Europe/London:20200305T085500
DTEND;TZID=Europe/London:20200305T151500
DTSTAMP:20260422T091144
CREATED:20200206T124912Z
LAST-MODIFIED:20200206T124942Z
UID:18854-1583398500-1583421300@stmarysdenton.com
SUMMARY:World Book Day
DESCRIPTION:
URL:https://stmarysdenton.com/event/world-book-day-4/
END:VEVENT
BEGIN:VEVENT
DTSTART;TZID=Europe/London:20200303T151500
DTEND;TZID=Europe/London:20200303T173000
DTSTAMP:20260422T091144
CREATED:20200206T124710Z
LAST-MODIFIED:20200206T124710Z
UID:18852-1583248500-1583256600@stmarysdenton.com
SUMMARY:Tameside Dodgeball Competition
DESCRIPTION:
URL:https://stmarysdenton.com/event/tameside-dodgeball-competition-2/
LOCATION:Astley Sports College
END:VEVENT
BEGIN:VEVENT
DTSTART;TZID=Europe/London:20200303T090000
DTEND;TZID=Europe/London:20200303T093000
DTSTAMP:20260422T091144
CREATED:20200128T124551Z
LAST-MODIFIED:20200128T124551Z
UID:18786-1583226000-1583227800@stmarysdenton.com
SUMMARY:Stay and Learn Parent Workshop (Phonics) - Y2
DESCRIPTION:
URL:https://stmarysdenton.com/event/stay-and-learn-parent-workshop-phonics-y2/
CATEGORIES:Y2
END:VEVENT
BEGIN:VEVENT
DTSTART;TZID=Europe/London:20200302T085500
DTEND;TZID=Europe/London:20200302T151500
DTSTAMP:20260422T091144
CREATED:20200206T123558Z
LAST-MODIFIED:20200206T123558Z
UID:18850-1583139300-1583162100@stmarysdenton.com
SUMMARY:Photographer in school (class groups and Y6 dual mount)
DESCRIPTION:
URL:https://stmarysdenton.com/event/photographer-in-school-class-groups-and-y6-dual-mount/
END:VEVENT
BEGIN:VEVENT
DTSTART;TZID=Europe/London:20200228T093000
DTEND;TZID=Europe/London:20200228T103000
DTSTAMP:20260422T091144
CREATED:20200206T123033Z
LAST-MODIFIED:20200206T123359Z
UID:18848-1582882200-1582885800@stmarysdenton.com
SUMMARY:Little Bikers Course for F1 and F2 (6 weeks)
DESCRIPTION:
URL:https://stmarysdenton.com/event/little-bikers-course-for-f1-and-f2-6-weeks/
CATEGORIES:EYFS,Year Groups
END:VEVENT
BEGIN:VEVENT
DTSTART;TZID=Europe/London:20200228T090000
DTEND;TZID=Europe/London:20200228T093000
DTSTAMP:20260422T091144
CREATED:20200128T124318Z
LAST-MODIFIED:20200128T124425Z
UID:18784-1582880400-1582882200@stmarysdenton.com
SUMMARY:Stay and Learn Parent Workshop (Phonics) - Y1
DESCRIPTION:
URL:https://stmarysdenton.com/event/stay-and-learn-parent-workshop-phonics-y1/
CATEGORIES:Y1
END:VEVENT
BEGIN:VEVENT
DTSTART;TZID=Europe/London:20200226T090000
DTEND;TZID=Europe/London:20200226T093000
DTSTAMP:20260422T091144
CREATED:20200128T123338Z
LAST-MODIFIED:20200128T125945Z
UID:18779-1582707600-1582709400@stmarysdenton.com
SUMMARY:Stay and Learn Parent Workshop (Phonics) - Reception
DESCRIPTION:
URL:https://stmarysdenton.com/event/stay-and-learn-parent-workshop-phonics-nursery/
CATEGORIES:EYFS
END:VEVENT
BEGIN:VEVENT
DTSTART;TZID=Europe/London:20200226T085500
DTEND;TZID=Europe/London:20200226T151500
DTSTAMP:20260422T091144
CREATED:20200203T150512Z
LAST-MODIFIED:20200203T150641Z
UID:18818-1582707300-1582730100@stmarysdenton.com
SUMMARY:Y2 Trip to The Lowry Art Gallery
DESCRIPTION:
URL:https://stmarysdenton.com/event/y2-trip-to-the-lowry-art-gallery/
CATEGORIES:Y2
END:VEVENT
BEGIN:VEVENT
DTSTART;TZID=Europe/London:20200225T090000
DTEND;TZID=Europe/London:20200225T093000
DTSTAMP:20260422T091144
CREATED:20200128T124114Z
LAST-MODIFIED:20200128T130040Z
UID:18782-1582621200-1582623000@stmarysdenton.com
SUMMARY:Stay and Learn Parent Workshop (Phonics) - Nursery
DESCRIPTION:
URL:https://stmarysdenton.com/event/stay-and-learn-parent-workshop-phonics-nursery-2/
CATEGORIES:EYFS
END:VEVENT
BEGIN:VEVENT
DTSTART;TZID=Europe/London:20200224T085500
DTEND;TZID=Europe/London:20200224T085500
DTSTAMP:20260422T091144
CREATED:20200203T145102Z
LAST-MODIFIED:20200203T145953Z
UID:18816-1582534500-1582534500@stmarysdenton.com
SUMMARY:Y5 Trip To Howarth
DESCRIPTION:
URL:https://stmarysdenton.com/event/y5-trip-to-howarth-2/
CATEGORIES:Y5
END:VEVENT
BEGIN:VEVENT
DTSTART;TZID=Europe/London:20200224T085500
DTEND;TZID=Europe/London:20200224T085500
DTSTAMP:20260422T091144
CREATED:20200203T144503Z
LAST-MODIFIED:20200203T144503Z
UID:18811-1582534500-1582534500@stmarysdenton.com
SUMMARY:School re-opens for Spring 2
DESCRIPTION:
URL:https://stmarysdenton.com/event/school-re-opens-for-spring-2-2/
END:VEVENT
BEGIN:VEVENT
DTSTART;VALUE=DATE:20191220
DTEND;VALUE=DATE:20191222
DTSTAMP:20260422T091144
CREATED:20191025T154828Z
LAST-MODIFIED:20191025T154828Z
UID:18001-1576814400-1576900799@stmarysdenton.com
SUMMARY:Christmas parties (non-uniform day)
DESCRIPTION:
URL:https://stmarysdenton.com/event/christmas-parties-non-uniform-day/
END:VEVENT
BEGIN:VEVENT
DTSTART;TZID=Europe/London:20191219T093000
DTEND;TZID=Europe/London:20191219T100000
DTSTAMP:20260422T091144
CREATED:20191025T154721Z
LAST-MODIFIED:20191025T154721Z
UID:17999-1576747800-1576749600@stmarysdenton.com
SUMMARY:EYFS Nativity
DESCRIPTION:
URL:https://stmarysdenton.com/event/eyfs-nativity-2/
END:VEVENT
BEGIN:VEVENT
DTSTART;VALUE=DATE:20191219
DTEND;VALUE=DATE:20191221
DTSTAMP:20260422T091144
CREATED:20191025T154636Z
LAST-MODIFIED:20191025T154636Z
UID:17997-1576728000-1576814399@stmarysdenton.com
SUMMARY:KS1 Panto Trip - Dick Whittington
DESCRIPTION:
URL:https://stmarysdenton.com/event/ks1-panto-trip-dick-whittington/
LOCATION:Romiley Forum
CATEGORIES:Trips
END:VEVENT
BEGIN:VEVENT
DTSTART;TZID=Europe/London:20191218T153000
DTEND;TZID=Europe/London:20191218T163000
DTSTAMP:20260422T091144
CREATED:20191025T154443Z
LAST-MODIFIED:20191025T154443Z
UID:17993-1576683000-1576686600@stmarysdenton.com
SUMMARY:Sacramental programme: Children's meeting (alternative date)
DESCRIPTION:
URL:https://stmarysdenton.com/event/sacramental-programme-childrens-meeting-alternative-date-2/
LOCATION:St. Mary’s Parish Centre
CATEGORIES:Religious Life
END:VEVENT
BEGIN:VEVENT
DTSTART;TZID=Europe/London:20191218T093000
DTEND;TZID=Europe/London:20191218T103000
DTSTAMP:20260422T091144
CREATED:20191025T154208Z
LAST-MODIFIED:20191025T154208Z
UID:17991-1576661400-1576665000@stmarysdenton.com
SUMMARY:KS1 and KS2 Mass: Advent
DESCRIPTION:
URL:https://stmarysdenton.com/event/ks1-and-ks2-mass-advent/
LOCATION:St. Mary’s Church
CATEGORIES:Religious Life
END:VEVENT
BEGIN:VEVENT
DTSTART;TZID=Europe/London:20191217T093000
DTEND;TZID=Europe/London:20191217T100000
DTSTAMP:20260422T091144
CREATED:20191025T153908Z
LAST-MODIFIED:20191025T153908Z
UID:17989-1576575000-1576576800@stmarysdenton.com
SUMMARY:EYFS Nativity
DESCRIPTION:
URL:https://stmarysdenton.com/event/eyfs-nativity/
END:VEVENT
BEGIN:VEVENT
DTSTART;TZID=Europe/London:20191215T150000
DTEND;TZID=Europe/London:20191215T160000
DTSTAMP:20260422T091144
CREATED:20191025T153810Z
LAST-MODIFIED:20191025T153810Z
UID:17987-1576422000-1576425600@stmarysdenton.com
SUMMARY:Sacramental programme: Children's meeting
DESCRIPTION:
URL:https://stmarysdenton.com/event/sacramental-programme-childrens-meeting-2/
LOCATION:St. Mary’s Church
CATEGORIES:Religious Life
END:VEVENT
BEGIN:VEVENT
DTSTART;VALUE=DATE:20191213
DTEND;VALUE=DATE:20191215
DTSTAMP:20260422T091144
CREATED:20191025T153638Z
LAST-MODIFIED:20191025T153638Z
UID:17985-1576209600-1576295999@stmarysdenton.com
SUMMARY:Christmas Jumper Day / Christmas Dinner
DESCRIPTION:
URL:https://stmarysdenton.com/event/christmas-jumper-day-christmas-dinner/
END:VEVENT
BEGIN:VEVENT
DTSTART;TZID=Europe/London:20191212T140000
DTEND;TZID=Europe/London:20191212T144000
DTSTAMP:20260422T091144
CREATED:20191025T153545Z
LAST-MODIFIED:20191025T153545Z
UID:17983-1576159200-1576161600@stmarysdenton.com
SUMMARY:KS1 Christmas Play
DESCRIPTION:
URL:https://stmarysdenton.com/event/ks1-christmas-play-8/
END:VEVENT
BEGIN:VEVENT
DTSTART;TZID=Europe/London:20191211T140000
DTEND;TZID=Europe/London:20191211T144000
DTSTAMP:20260422T091144
CREATED:20191025T153325Z
LAST-MODIFIED:20191025T153325Z
UID:17979-1576072800-1576075200@stmarysdenton.com
SUMMARY:KS1 Christmas Play
DESCRIPTION:
URL:https://stmarysdenton.com/event/ks1-christmas-play-7/
END:VEVENT
BEGIN:VEVENT
DTSTART;TZID=Europe/London:20191206T090000
DTEND;TZID=Europe/London:20191206T094500
DTSTAMP:20260422T091144
CREATED:20191025T152722Z
LAST-MODIFIED:20191025T152722Z
UID:17977-1575622800-1575625500@stmarysdenton.com
SUMMARY:Stay and Learn (maths) (Y1)
DESCRIPTION:
URL:https://stmarysdenton.com/event/stay-and-learn-maths-y1/
CATEGORIES:Y1
END:VEVENT
BEGIN:VEVENT
DTSTART;TZID=Europe/London:20191203T090000
DTEND;TZID=Europe/London:20191203T094500
DTSTAMP:20260422T091144
CREATED:20191025T152604Z
LAST-MODIFIED:20191025T152604Z
UID:17975-1575363600-1575366300@stmarysdenton.com
SUMMARY:Stay and Learn (maths) (Y2)
DESCRIPTION:
URL:https://stmarysdenton.com/event/stay-and-learn-maths-y2/
CATEGORIES:Y2
END:VEVENT
END:VCALENDAR