BEGIN:VCALENDAR
VERSION:2.0
PRODID:-//St. Mary&#039;s RC Primary and Nursery School - ECPv6.15.20//NONSGML v1.0//EN
CALSCALE:GREGORIAN
METHOD:PUBLISH
X-ORIGINAL-URL:https://stmarysdenton.com
X-WR-CALDESC:Events for St. Mary&#039;s RC Primary and Nursery School
REFRESH-INTERVAL;VALUE=DURATION:PT1H
X-Robots-Tag:noindex
X-PUBLISHED-TTL:PT1H
BEGIN:VTIMEZONE
TZID:Europe/London
BEGIN:DAYLIGHT
TZOFFSETFROM:+0000
TZOFFSETTO:+0100
TZNAME:BST
DTSTART:20180325T010000
END:DAYLIGHT
BEGIN:STANDARD
TZOFFSETFROM:+0100
TZOFFSETTO:+0000
TZNAME:GMT
DTSTART:20181028T010000
END:STANDARD
BEGIN:DAYLIGHT
TZOFFSETFROM:+0000
TZOFFSETTO:+0100
TZNAME:BST
DTSTART:20190331T010000
END:DAYLIGHT
BEGIN:STANDARD
TZOFFSETFROM:+0100
TZOFFSETTO:+0000
TZNAME:GMT
DTSTART:20191027T010000
END:STANDARD
BEGIN:DAYLIGHT
TZOFFSETFROM:+0000
TZOFFSETTO:+0100
TZNAME:BST
DTSTART:20200329T010000
END:DAYLIGHT
BEGIN:STANDARD
TZOFFSETFROM:+0100
TZOFFSETTO:+0000
TZNAME:GMT
DTSTART:20201025T010000
END:STANDARD
END:VTIMEZONE
BEGIN:VEVENT
DTSTART;TZID=Europe/London:20191129T090000
DTEND;TZID=Europe/London:20191129T094500
DTSTAMP:20260422T132247
CREATED:20191025T152452Z
LAST-MODIFIED:20191025T152452Z
UID:17973-1575018000-1575020700@stmarysdenton.com
SUMMARY:Stay and Learn (maths) (Y3)
DESCRIPTION:
URL:https://stmarysdenton.com/event/stay-and-learn-maths-y3/
CATEGORIES:Y3
END:VEVENT
BEGIN:VEVENT
DTSTART;TZID=Europe/London:20191127T150000
DTEND;TZID=Europe/London:20191127T160000
DTSTAMP:20260422T132247
CREATED:20191025T152140Z
LAST-MODIFIED:20191025T152140Z
UID:17971-1574866800-1574870400@stmarysdenton.com
SUMMARY:Sacramental programme: Children's meeting (alternative date)
DESCRIPTION:
URL:https://stmarysdenton.com/event/sacramental-programme-childrens-meeting-alternative-date/
LOCATION:St. Mary’s Parish Centre
END:VEVENT
BEGIN:VEVENT
DTSTART;TZID=Europe/London:20191126T090000
DTEND;TZID=Europe/London:20191126T094500
DTSTAMP:20260422T132247
CREATED:20191025T151601Z
LAST-MODIFIED:20191025T151601Z
UID:17969-1574758800-1574761500@stmarysdenton.com
SUMMARY:Stay and Learn (maths) (Y6)
DESCRIPTION:
URL:https://stmarysdenton.com/event/stay-and-learn-maths-y6/
CATEGORIES:Y6
END:VEVENT
BEGIN:VEVENT
DTSTART;TZID=Europe/London:20191124T150000
DTEND;TZID=Europe/London:20191124T160000
DTSTAMP:20260422T132247
CREATED:20191025T151440Z
LAST-MODIFIED:20191025T151440Z
UID:17967-1574607600-1574611200@stmarysdenton.com
SUMMARY:Sacramental programme: Children's meeting
DESCRIPTION:
URL:https://stmarysdenton.com/event/sacramental-programme-childrens-meeting/
LOCATION:St. Mary’s Parish Centre
CATEGORIES:Religious Life
END:VEVENT
BEGIN:VEVENT
DTSTART;TZID=Europe/London:20191122T090000
DTEND;TZID=Europe/London:20191122T094500
DTSTAMP:20260422T132247
CREATED:20191025T150917Z
LAST-MODIFIED:20191025T150917Z
UID:17965-1574413200-1574415900@stmarysdenton.com
SUMMARY:Stay and Learn (maths) (Y4)
DESCRIPTION:
URL:https://stmarysdenton.com/event/stay-and-learn-maths-y4/
CATEGORIES:Y4
END:VEVENT
BEGIN:VEVENT
DTSTART;VALUE=DATE:20191120
DTEND;VALUE=DATE:20191124
DTSTAMP:20260422T132247
CREATED:20191025T140303Z
LAST-MODIFIED:20191025T140303Z
UID:17952-1574222400-1574481599@stmarysdenton.com
SUMMARY:Y6 Trip to Robinwood
DESCRIPTION:
URL:https://stmarysdenton.com/event/y6-trip-to-robinwood-3/
LOCATION:Robinwood Activity Centre\, Dobroyd Castle\, Todmorden
CATEGORIES:Y6
END:VEVENT
BEGIN:VEVENT
DTSTART;TZID=Europe/London:20191119T090000
DTEND;TZID=Europe/London:20191119T094500
DTSTAMP:20260422T132247
CREATED:20191025T134245Z
LAST-MODIFIED:20191025T134245Z
UID:17949-1574154000-1574156700@stmarysdenton.com
SUMMARY:Stay and Learn (maths) (Y5)
DESCRIPTION:
URL:https://stmarysdenton.com/event/stay-and-learn-maths-y5/
CATEGORIES:Y5
END:VEVENT
BEGIN:VEVENT
DTSTART;TZID=Europe/London:20191115T090000
DTEND;TZID=Europe/London:20191115T093000
DTSTAMP:20260422T132247
CREATED:20191025T115524Z
LAST-MODIFIED:20191025T115524Z
UID:17920-1573808400-1573810200@stmarysdenton.com
SUMMARY:Stay and Learn (F1)
DESCRIPTION:
URL:https://stmarysdenton.com/event/stay-and-learn-f1-2/
CATEGORIES:EYFS
END:VEVENT
BEGIN:VEVENT
DTSTART;VALUE=DATE:20191115
DTEND;VALUE=DATE:20191117
DTSTAMP:20260422T132247
CREATED:20191025T115828Z
LAST-MODIFIED:20191025T115828Z
UID:17922-1573790400-1573876799@stmarysdenton.com
SUMMARY:Nasal Immunisations
DESCRIPTION:
URL:https://stmarysdenton.com/event/nasal-immunisations/
END:VEVENT
BEGIN:VEVENT
DTSTART;TZID=Europe/London:20191114T160000
DTEND;TZID=Europe/London:20191114T170000
DTSTAMP:20260422T132247
CREATED:20191025T115412Z
LAST-MODIFIED:20191025T115412Z
UID:17918-1573747200-1573750800@stmarysdenton.com
SUMMARY:EYFS Open Evening for parents new to school (Admission 2020)
DESCRIPTION:
URL:https://stmarysdenton.com/event/eyfs-open-evening-for-parents-new-to-school-admission-2020/
END:VEVENT
BEGIN:VEVENT
DTSTART;TZID=Europe/London:20191114T090500
DTEND;TZID=Europe/London:20191114T093000
DTSTAMP:20260422T132247
CREATED:20190906T093957Z
LAST-MODIFIED:20190906T093957Z
UID:17660-1573722300-1573723800@stmarysdenton.com
SUMMARY:Class Collective Worship - Year 1
DESCRIPTION:
URL:https://stmarysdenton.com/event/class-collective-worship-year-1-3/
CATEGORIES:Class Collective Worship,Y1
END:VEVENT
BEGIN:VEVENT
DTSTART;TZID=Europe/London:20191114T090000
DTEND;TZID=Europe/London:20191114T093000
DTSTAMP:20260422T132247
CREATED:20191025T115218Z
LAST-MODIFIED:20191025T115218Z
UID:17916-1573722000-1573723800@stmarysdenton.com
SUMMARY:Stay and Learn (F2)
DESCRIPTION:
URL:https://stmarysdenton.com/event/stay-and-learn-f2-2/
CATEGORIES:EYFS
END:VEVENT
BEGIN:VEVENT
DTSTART;TZID=Europe/London:20191113T090000
DTEND;TZID=Europe/London:20191113T093000
DTSTAMP:20260422T132247
CREATED:20191025T114701Z
LAST-MODIFIED:20191025T114701Z
UID:17914-1573635600-1573637400@stmarysdenton.com
SUMMARY:Stay and Learn (F1)
DESCRIPTION:
URL:https://stmarysdenton.com/event/stay-and-learn-f1/
CATEGORIES:EYFS
END:VEVENT
BEGIN:VEVENT
DTSTART;TZID=Europe/London:20191112T090000
DTEND;TZID=Europe/London:20191112T093000
DTSTAMP:20260422T132247
CREATED:20191025T114155Z
LAST-MODIFIED:20191025T114155Z
UID:17910-1573549200-1573551000@stmarysdenton.com
SUMMARY:Stay and Learn (F2)
DESCRIPTION:
URL:https://stmarysdenton.com/event/stay-and-learn-f2/
END:VEVENT
BEGIN:VEVENT
DTSTART;VALUE=DATE:20191112
DTEND;VALUE=DATE:20191114
DTSTAMP:20260422T132247
CREATED:20191025T114409Z
LAST-MODIFIED:20191025T114409Z
UID:17912-1573531200-1573617599@stmarysdenton.com
SUMMARY:Y6 Health Checks
DESCRIPTION:
URL:https://stmarysdenton.com/event/y6-health-checks/
CATEGORIES:Y6
END:VEVENT
BEGIN:VEVENT
DTSTART;TZID=Europe/London:20191111T080000
DTEND;TZID=Europe/London:20191115T170000
DTSTAMP:20260422T132247
CREATED:20190906T094100Z
LAST-MODIFIED:20190906T094100Z
UID:17662-1573459200-1573837200@stmarysdenton.com
SUMMARY:Anti Bullying Week
DESCRIPTION:
URL:https://stmarysdenton.com/event/anti-bullying-week/
END:VEVENT
BEGIN:VEVENT
DTSTART;TZID=Europe/London:20191106T153000
DTEND;TZID=Europe/London:20191106T170000
DTSTAMP:20260422T132247
CREATED:20191025T113912Z
LAST-MODIFIED:20191025T113912Z
UID:17908-1573054200-1573059600@stmarysdenton.com
SUMMARY:Girls Football match v St Stephen's
DESCRIPTION:
URL:https://stmarysdenton.com/event/girls-football-match-v-st-stephens/
LOCATION:St Stephens RC Primary School
CATEGORIES:Sports
END:VEVENT
BEGIN:VEVENT
DTSTART;TZID=Europe/London:20191106T093000
DTEND;TZID=Europe/London:20191106T103000
DTSTAMP:20260422T132247
CREATED:20190906T093850Z
LAST-MODIFIED:20190906T093850Z
UID:17658-1573032600-1573036200@stmarysdenton.com
SUMMARY:Whole School Mass - Rememberance
DESCRIPTION:
URL:https://stmarysdenton.com/event/whole-school-mass-rememberance/
CATEGORIES:Religious Life
END:VEVENT
BEGIN:VEVENT
DTSTART;TZID=Europe/London:20191104T085500
DTEND;TZID=Europe/London:20191104T085500
DTSTAMP:20260422T132247
CREATED:20191025T113454Z
LAST-MODIFIED:20191025T113454Z
UID:17905-1572857700-1572857700@stmarysdenton.com
SUMMARY:School re-opens for Autumn 2
DESCRIPTION:
URL:https://stmarysdenton.com/event/school-re-opens-for-autumn-2/
END:VEVENT
BEGIN:VEVENT
DTSTART;TZID=Europe/London:20191025T085500
DTEND;TZID=Europe/London:20191025T151500
DTSTAMP:20260422T132247
CREATED:20191025T155158Z
LAST-MODIFIED:20191025T155158Z
UID:18003-1571993700-1572016500@stmarysdenton.com
SUMMARY:School closes for Christmas
DESCRIPTION:
URL:https://stmarysdenton.com/event/school-closes-for-christmas-2/
END:VEVENT
BEGIN:VEVENT
DTSTART;TZID=Europe/London:20191024T090500
DTEND;TZID=Europe/London:20191024T093000
DTSTAMP:20260422T132247
CREATED:20190906T093808Z
LAST-MODIFIED:20190906T093808Z
UID:17656-1571907900-1571909400@stmarysdenton.com
SUMMARY:Class Collective Worship - Year 2
DESCRIPTION:
URL:https://stmarysdenton.com/event/class-collective-worship-year-2-4/
CATEGORIES:Class Collective Worship,Y2
END:VEVENT
BEGIN:VEVENT
DTSTART;TZID=Europe/London:20191017T090500
DTEND;TZID=Europe/London:20191017T093000
DTSTAMP:20260422T132247
CREATED:20190906T093525Z
LAST-MODIFIED:20190906T093525Z
UID:17654-1571303100-1571304600@stmarysdenton.com
SUMMARY:Class Collective Worship - Year 3
DESCRIPTION:
URL:https://stmarysdenton.com/event/class-collective-worship-year-3-3/
CATEGORIES:Class Collective Worship,Y3
END:VEVENT
BEGIN:VEVENT
DTSTART;TZID=Europe/London:20191010T090500
DTEND;TZID=Europe/London:20191010T093000
DTSTAMP:20260422T132247
CREATED:20190906T093418Z
LAST-MODIFIED:20190906T093418Z
UID:17652-1570698300-1570699800@stmarysdenton.com
SUMMARY:Class Collective Worship - Year 4
DESCRIPTION:
URL:https://stmarysdenton.com/event/class-collective-worship-year-4-4/
LOCATION:At School
CATEGORIES:Class Collective Worship,Y4
END:VEVENT
BEGIN:VEVENT
DTSTART;TZID=Europe/London:20191003T090500
DTEND;TZID=Europe/London:20191003T093000
DTSTAMP:20260422T132247
CREATED:20190906T093322Z
LAST-MODIFIED:20190906T093322Z
UID:17650-1570093500-1570095000@stmarysdenton.com
SUMMARY:Class Collective Worship - Year 5 CAFOD Harvest Fast Day
DESCRIPTION:
URL:https://stmarysdenton.com/event/class-collective-worship-year-5-cafod-harvest-fast-day/
CATEGORIES:Class Collective Worship,Y5
END:VEVENT
BEGIN:VEVENT
DTSTART;TZID=Europe/London:20190926T090500
DTEND;TZID=Europe/London:20190926T093000
DTSTAMP:20260422T132247
CREATED:20190906T092517Z
LAST-MODIFIED:20190906T092517Z
UID:17190-1569488700-1569490200@stmarysdenton.com
SUMMARY:Class Collective Worship - Year 6
DESCRIPTION:
URL:https://stmarysdenton.com/event/class-collective-worship-year-6-2/
LOCATION:At School
CATEGORIES:Class Collective Worship,Y6
END:VEVENT
BEGIN:VEVENT
DTSTART;TZID=Europe/London:20190920T091500
DTEND;TZID=Europe/London:20190920T101500
DTSTAMP:20260422T132247
CREATED:20190906T092404Z
LAST-MODIFIED:20190906T092404Z
UID:17187-1568970900-1568974500@stmarysdenton.com
SUMMARY:Feast of Our Lady of Sorrows - Whole School Mass
DESCRIPTION:
URL:https://stmarysdenton.com/event/feast-of-our-lady-of-sorrows-whole-school-mass/
LOCATION:St. Mary’s Church
CATEGORIES:Religious Life
END:VEVENT
BEGIN:VEVENT
DTSTART;TZID=Europe/London:20190726T140000
DTEND;TZID=Europe/London:20190726T150000
DTSTAMP:20260422T132247
CREATED:20190405T104048Z
LAST-MODIFIED:20190405T104048Z
UID:16576-1564149600-1564153200@stmarysdenton.com
SUMMARY:Presentation Assembly
DESCRIPTION:
URL:https://stmarysdenton.com/event/presentation-assembly-10/
END:VEVENT
BEGIN:VEVENT
DTSTART;TZID=Europe/London:20190725T093000
DTEND;TZID=Europe/London:20190725T120000
DTSTAMP:20260422T132247
CREATED:20190405T103833Z
LAST-MODIFIED:20190405T103833Z
UID:16572-1564047000-1564056000@stmarysdenton.com
SUMMARY:KS2 House Winners Trip to Hollywood Bowl
DESCRIPTION:
URL:https://stmarysdenton.com/event/ks2-house-winners-trip-to-hollywood-bowl/
LOCATION:Hollywood Bowl\, Ashton
CATEGORIES:Special Days
END:VEVENT
BEGIN:VEVENT
DTSTART;TZID=Europe/London:20190724T093000
DTEND;TZID=Europe/London:20190724T110000
DTSTAMP:20260422T132247
CREATED:20190405T103527Z
LAST-MODIFIED:20190405T103527Z
UID:16570-1563960600-1563966000@stmarysdenton.com
SUMMARY:KS2 Sports Days
DESCRIPTION:
URL:https://stmarysdenton.com/event/ks2-sports-days/
CATEGORIES:Sports
END:VEVENT
BEGIN:VEVENT
DTSTART;TZID=Europe/London:20190722T093000
DTEND;TZID=Europe/London:20190722T110000
DTSTAMP:20260422T132247
CREATED:20190405T103355Z
LAST-MODIFIED:20190405T103355Z
UID:16568-1563787800-1563793200@stmarysdenton.com
SUMMARY:KS1 Sports Day
DESCRIPTION:
URL:https://stmarysdenton.com/event/ks1-sports-day-7/
CATEGORIES:Sports
END:VEVENT
END:VCALENDAR