BEGIN:VCALENDAR
VERSION:2.0
PRODID:-//St. Mary&#039;s RC Primary and Nursery School - ECPv6.15.20//NONSGML v1.0//EN
CALSCALE:GREGORIAN
METHOD:PUBLISH
X-WR-CALNAME:St. Mary&#039;s RC Primary and Nursery School
X-ORIGINAL-URL:https://stmarysdenton.com
X-WR-CALDESC:Events for St. Mary&#039;s RC Primary and Nursery School
REFRESH-INTERVAL;VALUE=DURATION:PT1H
X-Robots-Tag:noindex
X-PUBLISHED-TTL:PT1H
BEGIN:VTIMEZONE
TZID:Europe/London
BEGIN:DAYLIGHT
TZOFFSETFROM:+0000
TZOFFSETTO:+0100
TZNAME:BST
DTSTART:20180325T010000
END:DAYLIGHT
BEGIN:STANDARD
TZOFFSETFROM:+0100
TZOFFSETTO:+0000
TZNAME:GMT
DTSTART:20181028T010000
END:STANDARD
BEGIN:DAYLIGHT
TZOFFSETFROM:+0000
TZOFFSETTO:+0100
TZNAME:BST
DTSTART:20190331T010000
END:DAYLIGHT
BEGIN:STANDARD
TZOFFSETFROM:+0100
TZOFFSETTO:+0000
TZNAME:GMT
DTSTART:20191027T010000
END:STANDARD
BEGIN:DAYLIGHT
TZOFFSETFROM:+0000
TZOFFSETTO:+0100
TZNAME:BST
DTSTART:20200329T010000
END:DAYLIGHT
BEGIN:STANDARD
TZOFFSETFROM:+0100
TZOFFSETTO:+0000
TZNAME:GMT
DTSTART:20201025T010000
END:STANDARD
END:VTIMEZONE
BEGIN:VEVENT
DTSTART;TZID=Europe/London:20190719T093000
DTEND;TZID=Europe/London:20190719T103000
DTSTAMP:20260422T182304
CREATED:20190405T103235Z
LAST-MODIFIED:20190405T103235Z
UID:16566-1563528600-1563532200@stmarysdenton.com
SUMMARY:EYFS Sports Day
DESCRIPTION:
URL:https://stmarysdenton.com/event/eyfs-sports-day-4/
CATEGORIES:Sports
END:VEVENT
BEGIN:VEVENT
DTSTART;TZID=Europe/London:20190718T183000
DTEND;TZID=Europe/London:20190718T200000
DTSTAMP:20260422T182304
CREATED:20190405T103152Z
LAST-MODIFIED:20190405T103152Z
UID:16563-1563474600-1563480000@stmarysdenton.com
SUMMARY:Year 5/6 Production
DESCRIPTION:
URL:https://stmarysdenton.com/event/year-5-6-production-2/
END:VEVENT
BEGIN:VEVENT
DTSTART;TZID=Europe/London:20190717T183000
DTEND;TZID=Europe/London:20190717T200000
DTSTAMP:20260422T182304
CREATED:20190405T103101Z
LAST-MODIFIED:20190405T103101Z
UID:16561-1563388200-1563393600@stmarysdenton.com
SUMMARY:Year 5/6 Production
DESCRIPTION:
URL:https://stmarysdenton.com/event/year-5-6-production/
LOCATION:At School
END:VEVENT
BEGIN:VEVENT
DTSTART;TZID=Europe/London:20190712T153000
DTEND;TZID=Europe/London:20190712T170000
DTSTAMP:20260422T182304
CREATED:20190405T100329Z
LAST-MODIFIED:20190405T100329Z
UID:16543-1562945400-1562950800@stmarysdenton.com
SUMMARY:TCSSA Kwik Cricket
DESCRIPTION:
URL:https://stmarysdenton.com/event/tcssa-kwik-cricket-3/
LOCATION:Hyde Cricket and Squash Club
CATEGORIES:Sports
END:VEVENT
BEGIN:VEVENT
DTSTART;TZID=Europe/London:20190705T093000
DTEND;TZID=Europe/London:20190705T120000
DTSTAMP:20260422T182304
CREATED:20190405T102731Z
LAST-MODIFIED:20190405T102731Z
UID:16559-1562319000-1562328000@stmarysdenton.com
SUMMARY:Transition Morning
DESCRIPTION:
URL:https://stmarysdenton.com/event/transition-morning-3/
END:VEVENT
BEGIN:VEVENT
DTSTART;TZID=Europe/London:20190704T120000
DTEND;TZID=Europe/London:20190704T130000
DTSTAMP:20260422T182304
CREATED:20190405T102650Z
LAST-MODIFIED:20190405T102650Z
UID:16557-1562241600-1562245200@stmarysdenton.com
SUMMARY:Special School Lunch - American Independence Day
DESCRIPTION:
URL:https://stmarysdenton.com/event/special-school-lunch-american-independence-day/
END:VEVENT
BEGIN:VEVENT
DTSTART;TZID=Europe/London:20190704T100000
DTEND;TZID=Europe/London:20190704T120000
DTSTAMP:20260422T182304
CREATED:20190405T100256Z
LAST-MODIFIED:20190405T100256Z
UID:16541-1562234400-1562241600@stmarysdenton.com
SUMMARY:Quad Kids (Years 3 and 4)
DESCRIPTION:
URL:https://stmarysdenton.com/event/quad-kids-years-3-and-4/
LOCATION:East Cheshire Harriers
CATEGORIES:Sports
END:VEVENT
BEGIN:VEVENT
DTSTART;TZID=Europe/London:20190703T130000
DTEND;TZID=Europe/London:20190703T150000
DTSTAMP:20260422T182304
CREATED:20190405T100213Z
LAST-MODIFIED:20190405T100213Z
UID:16539-1562158800-1562166000@stmarysdenton.com
SUMMARY:Quad Kids (Years 5 and 6)
DESCRIPTION:
URL:https://stmarysdenton.com/event/quad-kids-years-5-and-6/
LOCATION:East Cheshire Harriers
CATEGORIES:Sports
END:VEVENT
BEGIN:VEVENT
DTSTART;TZID=Europe/London:20190625T153000
DTEND;TZID=Europe/London:20190625T170000
DTSTAMP:20260422T182304
CREATED:20190405T100110Z
LAST-MODIFIED:20190405T100110Z
UID:16537-1561476600-1561482000@stmarysdenton.com
SUMMARY:TCSSA KS2 Athletics
DESCRIPTION:
URL:https://stmarysdenton.com/event/tcssa-ks2-athletics/
LOCATION:St John Fisher
CATEGORIES:Sports
END:VEVENT
BEGIN:VEVENT
DTSTART;TZID=Europe/London:20190625T080000
DTEND;TZID=Europe/London:20190625T170000
DTSTAMP:20260422T182305
CREATED:20190405T102505Z
LAST-MODIFIED:20190430T120343Z
UID:16552-1561449600-1561482000@stmarysdenton.com
SUMMARY:GIFT Team and Caritas Ambassadors Celebration Day
DESCRIPTION:
URL:https://stmarysdenton.com/event/gift-team-celebration-day/
CATEGORIES:Religious Life
END:VEVENT
BEGIN:VEVENT
DTSTART;TZID=Europe/London:20190620T170000
DTEND;TZID=Europe/London:20190620T173000
DTSTAMP:20260422T182305
CREATED:20190405T102426Z
LAST-MODIFIED:20190405T102426Z
UID:16550-1561050000-1561051800@stmarysdenton.com
SUMMARY:Induction Meeting for new F2 Parents
DESCRIPTION:
URL:https://stmarysdenton.com/event/induction-meeting-for-new-f2-parents/
END:VEVENT
BEGIN:VEVENT
DTSTART;TZID=Europe/London:20190619T153000
DTEND;TZID=Europe/London:20190619T170000
DTSTAMP:20260422T182305
CREATED:20190405T095442Z
LAST-MODIFIED:20190405T095442Z
UID:16535-1560958200-1560963600@stmarysdenton.com
SUMMARY:TCSSA KS1 Mixed Football
DESCRIPTION:
URL:https://stmarysdenton.com/event/tcssa-ks1-mixed-football/
LOCATION:St Christopher’s RC Primary School\, OL6 9DP
END:VEVENT
BEGIN:VEVENT
DTSTART;TZID=Europe/London:20190619T090000
DTEND;TZID=Europe/London:20190619T150000
DTSTAMP:20260422T182305
CREATED:20190405T084357Z
LAST-MODIFIED:20190405T084357Z
UID:16519-1560934800-1560956400@stmarysdenton.com
SUMMARY:Climate Change Workshop
DESCRIPTION:
URL:https://stmarysdenton.com/event/climate-change-workshop/
LOCATION:At School
CATEGORIES:Visits
END:VEVENT
BEGIN:VEVENT
DTSTART;TZID=Europe/London:20190614T080000
DTEND;TZID=Europe/London:20190614T093000
DTSTAMP:20260422T182305
CREATED:20190405T084210Z
LAST-MODIFIED:20190405T084210Z
UID:16516-1560499200-1560504600@stmarysdenton.com
SUMMARY:PTA Event - Bags2School Collection
DESCRIPTION:
URL:https://stmarysdenton.com/event/pta-event-bags2school-collection-6/
CATEGORIES:PTA
END:VEVENT
BEGIN:VEVENT
DTSTART;TZID=Europe/London:20190613T153000
DTEND;TZID=Europe/London:20190613T170000
DTSTAMP:20260422T182305
CREATED:20190405T095346Z
LAST-MODIFIED:20190405T095346Z
UID:16533-1560439800-1560445200@stmarysdenton.com
SUMMARY:Tameside Rounders Competition
DESCRIPTION:
URL:https://stmarysdenton.com/event/tameside-rounders-competition-2/
CATEGORIES:Sports
END:VEVENT
BEGIN:VEVENT
DTSTART;TZID=Europe/London:20190610T080000
DTEND;TZID=Europe/London:20190610T170000
DTSTAMP:20260422T182305
CREATED:20190405T083823Z
LAST-MODIFIED:20190405T083823Z
UID:16514-1560153600-1560186000@stmarysdenton.com
SUMMARY:School re-opens for Summer 2
DESCRIPTION:
URL:https://stmarysdenton.com/event/school-re-opens-for-summer-2/
END:VEVENT
BEGIN:VEVENT
DTSTART;TZID=Europe/London:20190524T080000
DTEND;TZID=Europe/London:20190524T170000
DTSTAMP:20260422T182305
CREATED:20190513T130827Z
LAST-MODIFIED:20190513T130827Z
UID:16677-1558684800-1558717200@stmarysdenton.com
SUMMARY:Non Uniform Day for Cornerstone
DESCRIPTION:
URL:https://stmarysdenton.com/event/non-uniform-day-for-cornerstone/
CATEGORIES:Special Days
END:VEVENT
BEGIN:VEVENT
DTSTART;TZID=Europe/London:20190524T080000
DTEND;TZID=Europe/London:20190524T170000
DTSTAMP:20260422T182305
CREATED:20190405T083721Z
LAST-MODIFIED:20190405T083721Z
UID:16512-1558684800-1558717200@stmarysdenton.com
SUMMARY:School Closes for Half Term
DESCRIPTION:
URL:https://stmarysdenton.com/event/school-closes-for-half-term-6/
END:VEVENT
BEGIN:VEVENT
DTSTART;TZID=Europe/London:20190523T120000
DTEND;TZID=Europe/London:20190523T130000
DTSTAMP:20260422T182305
CREATED:20190405T083651Z
LAST-MODIFIED:20190405T083651Z
UID:16510-1558612800-1558616400@stmarysdenton.com
SUMMARY:Special School Lunch - Mexican Day
DESCRIPTION:
URL:https://stmarysdenton.com/event/special-school-lunch-mexican-day/
END:VEVENT
BEGIN:VEVENT
DTSTART;TZID=Europe/London:20190522T190000
DTEND;TZID=Europe/London:20190522T200000
DTSTAMP:20260422T182305
CREATED:20190508T142102Z
LAST-MODIFIED:20190508T142102Z
UID:16627-1558551600-1558555200@stmarysdenton.com
SUMMARY:Sacramental Programme - Parents' Meeting
DESCRIPTION:
URL:https://stmarysdenton.com/event/sacramental-programme-parents-meeting-15/
LOCATION:St. Mary’s Parish Centre
CATEGORIES:Religious Life
END:VEVENT
BEGIN:VEVENT
DTSTART;TZID=Europe/London:20190522T153000
DTEND;TZID=Europe/London:20190522T170000
DTSTAMP:20260422T182305
CREATED:20190405T093648Z
LAST-MODIFIED:20190405T093648Z
UID:16531-1558539000-1558544400@stmarysdenton.com
SUMMARY:TCSSA KS1 Mixed Sports Festival
DESCRIPTION:
URL:https://stmarysdenton.com/event/tcssa-ks1-mixed-sports-festival-5/
LOCATION:St Anne’s
CATEGORIES:Sports
END:VEVENT
BEGIN:VEVENT
DTSTART;TZID=Europe/London:20190519T150000
DTEND;TZID=Europe/London:20190519T160000
DTSTAMP:20260422T182305
CREATED:20190508T141826Z
LAST-MODIFIED:20190508T141826Z
UID:16624-1558278000-1558281600@stmarysdenton.com
SUMMARY:Sacramental Programme - Children's Meeting
DESCRIPTION:
URL:https://stmarysdenton.com/event/sacramental-programme-childrens-meeting-17/
LOCATION:St. Mary’s Parish Centre
CATEGORIES:Religious Life
END:VEVENT
BEGIN:VEVENT
DTSTART;TZID=Europe/London:20190517T090000
DTEND;TZID=Europe/London:20190517T150000
DTSTAMP:20260422T182305
CREATED:20190405T083604Z
LAST-MODIFIED:20190405T083604Z
UID:16507-1558083600-1558105200@stmarysdenton.com
SUMMARY:Year 6 Trip to Air Raid Shelters
DESCRIPTION:
URL:https://stmarysdenton.com/event/year-6-trip-to-air-raid-shelters/
LOCATION:Stockport Air Rad Shelters
CATEGORIES:Trips,Y6
END:VEVENT
BEGIN:VEVENT
DTSTART;TZID=Europe/London:20190516T153000
DTEND;TZID=Europe/London:20190516T170000
DTSTAMP:20260422T182305
CREATED:20190405T093527Z
LAST-MODIFIED:20190405T093527Z
UID:16529-1558020600-1558026000@stmarysdenton.com
SUMMARY:TCSSA High 5 Competition
DESCRIPTION:
URL:https://stmarysdenton.com/event/tcssa-high-5-competition-2/
LOCATION:St Thomas More RC College
CATEGORIES:Sports
END:VEVENT
BEGIN:VEVENT
DTSTART;TZID=Europe/London:20190508T090000
DTEND;TZID=Europe/London:20190508T120000
DTSTAMP:20260422T182305
CREATED:20190405T074519Z
LAST-MODIFIED:20190405T074519Z
UID:16502-1557306000-1557316800@stmarysdenton.com
SUMMARY:Year 3 Inflatable Museum
DESCRIPTION:
URL:https://stmarysdenton.com/event/year-3-inflatable-museum/
LOCATION:At School
CATEGORIES:Trips
END:VEVENT
BEGIN:VEVENT
DTSTART;TZID=Europe/London:20190502T153000
DTEND;TZID=Europe/London:20190502T170000
DTSTAMP:20260422T182305
CREATED:20190405T093442Z
LAST-MODIFIED:20190405T093442Z
UID:16526-1556811000-1556816400@stmarysdenton.com
SUMMARY:TCSSA Boys 6-a-Side Football Competition
DESCRIPTION:
URL:https://stmarysdenton.com/event/tcssa-boys-6-a-side-football-competition/
LOCATION:St Stephens RC Primary School
CATEGORIES:Sports
END:VEVENT
BEGIN:VEVENT
DTSTART;TZID=Europe/London:20190501T090000
DTEND;TZID=Europe/London:20190501T120000
DTSTAMP:20260422T182305
CREATED:20190405T074307Z
LAST-MODIFIED:20190405T074307Z
UID:16499-1556701200-1556712000@stmarysdenton.com
SUMMARY:EYFS Trip to Cockfields Farm
DESCRIPTION:
URL:https://stmarysdenton.com/event/eyfs-trip-to-cockfields-farm/
CATEGORIES:EYFS,Trips
END:VEVENT
BEGIN:VEVENT
DTSTART;TZID=Europe/London:20190430T153000
DTEND;TZID=Europe/London:20190430T170000
DTSTAMP:20260422T182305
CREATED:20190405T092214Z
LAST-MODIFIED:20190405T092214Z
UID:16523-1556638200-1556643600@stmarysdenton.com
SUMMARY:Tameside Netball Competition
DESCRIPTION:
URL:https://stmarysdenton.com/event/tameside-netball-competition-2/
LOCATION:St Damian’s High School
CATEGORIES:Sports
END:VEVENT
BEGIN:VEVENT
DTSTART;TZID=Europe/London:20190424T153000
DTEND;TZID=Europe/London:20190424T170000
DTSTAMP:20260422T182305
CREATED:20190405T092123Z
LAST-MODIFIED:20190405T092123Z
UID:16521-1556119800-1556125200@stmarysdenton.com
SUMMARY:Girls Football Match -v- Moorside
DESCRIPTION:
URL:https://stmarysdenton.com/event/girls-football-match-v-moorside/
CATEGORIES:Sports
END:VEVENT
END:VCALENDAR