BEGIN:VCALENDAR
VERSION:2.0
PRODID:-//St. Mary&#039;s RC Primary and Nursery School - ECPv6.15.20//NONSGML v1.0//EN
CALSCALE:GREGORIAN
METHOD:PUBLISH
X-WR-CALNAME:St. Mary&#039;s RC Primary and Nursery School
X-ORIGINAL-URL:https://stmarysdenton.com
X-WR-CALDESC:Events for St. Mary&#039;s RC Primary and Nursery School
REFRESH-INTERVAL;VALUE=DURATION:PT1H
X-Robots-Tag:noindex
X-PUBLISHED-TTL:PT1H
BEGIN:VTIMEZONE
TZID:Europe/London
BEGIN:DAYLIGHT
TZOFFSETFROM:+0000
TZOFFSETTO:+0100
TZNAME:BST
DTSTART:20220327T010000
END:DAYLIGHT
BEGIN:STANDARD
TZOFFSETFROM:+0100
TZOFFSETTO:+0000
TZNAME:GMT
DTSTART:20221030T010000
END:STANDARD
BEGIN:DAYLIGHT
TZOFFSETFROM:+0000
TZOFFSETTO:+0100
TZNAME:BST
DTSTART:20230326T010000
END:DAYLIGHT
BEGIN:STANDARD
TZOFFSETFROM:+0100
TZOFFSETTO:+0000
TZNAME:GMT
DTSTART:20231029T010000
END:STANDARD
BEGIN:DAYLIGHT
TZOFFSETFROM:+0000
TZOFFSETTO:+0100
TZNAME:BST
DTSTART:20240331T010000
END:DAYLIGHT
BEGIN:STANDARD
TZOFFSETFROM:+0100
TZOFFSETTO:+0000
TZNAME:GMT
DTSTART:20241027T010000
END:STANDARD
END:VTIMEZONE
BEGIN:VEVENT
DTSTART;TZID=Europe/London:20230522T090000
DTEND;TZID=Europe/London:20230524T153000
DTSTAMP:20260421T140819
CREATED:20230331T110658Z
LAST-MODIFIED:20230331T110658Z
UID:23863-1684746000-1684942200@stmarysdenton.com
SUMMARY:Y6 Residential trip to Robinwood
DESCRIPTION:
URL:https://stmarysdenton.com/event/y6-residential-trip-to-robinwood/
END:VEVENT
BEGIN:VEVENT
DTSTART;TZID=Europe/London:20230518T093000
DTEND;TZID=Europe/London:20230518T103000
DTSTAMP:20260421T140819
CREATED:20230331T110509Z
LAST-MODIFIED:20230331T110509Z
UID:23861-1684402200-1684405800@stmarysdenton.com
SUMMARY:Whole School Mass - Feast of the Ascension (9.30am at St. Mary's Church)
DESCRIPTION:
URL:https://stmarysdenton.com/event/whole-school-mass-feast-of-the-ascension-9-30am-at-st-marys-church/
END:VEVENT
BEGIN:VEVENT
DTSTART;TZID=Europe/London:20230517T153000
DTEND;TZID=Europe/London:20230517T190000
DTSTAMP:20260421T140819
CREATED:20230331T110402Z
LAST-MODIFIED:20230331T110402Z
UID:23859-1684337400-1684350000@stmarysdenton.com
SUMMARY:Y3 Sacramental Programme - Children's session 8 (3.30pm and 6.30pm - Parish Hall)
DESCRIPTION:
URL:https://stmarysdenton.com/event/y3-sacramental-programme-childrens-session-8-3-30pm-and-6-30pm-parish-hall/
END:VEVENT
BEGIN:VEVENT
DTSTART;TZID=Europe/London:20230517T153000
DTEND;TZID=Europe/London:20230517T163000
DTSTAMP:20260421T140819
CREATED:20230125T155710Z
LAST-MODIFIED:20230125T160406Z
UID:23485-1684337400-1684341000@stmarysdenton.com
SUMMARY:Sacramental Programme: Session 8 - The Body of Christ (St. Mary's Parish Hall)
DESCRIPTION:
URL:https://stmarysdenton.com/event/sacramental-programme-session-8-the-body-of-christ-st-marys-parish-hall/
END:VEVENT
BEGIN:VEVENT
DTSTART;TZID=Europe/London:20230510T153000
DTEND;TZID=Europe/London:20230510T190000
DTSTAMP:20260421T140819
CREATED:20230331T110330Z
LAST-MODIFIED:20230331T110330Z
UID:23857-1683732600-1683745200@stmarysdenton.com
SUMMARY:Y3 Sacramental Programme - Children's session 7 (3.30pm and 6.30pm - Parish Hall)
DESCRIPTION:
URL:https://stmarysdenton.com/event/y3-sacramental-programme-childrens-session-7-3-30pm-and-6-30pm-parish-hall/
END:VEVENT
BEGIN:VEVENT
DTSTART;TZID=Europe/London:20230510T153000
DTEND;TZID=Europe/London:20230510T163000
DTSTAMP:20260421T140819
CREATED:20230125T155533Z
LAST-MODIFIED:20230125T155533Z
UID:23483-1683732600-1683736200@stmarysdenton.com
SUMMARY:Sacramental Programme: Session 7 - Do this is memory of me (St. Mary's Parish Hall)
DESCRIPTION:
URL:https://stmarysdenton.com/event/sacramental-programme-session-7-do-this-is-memory-of-me-st-marys-parish-hall/
END:VEVENT
BEGIN:VEVENT
DTSTART;TZID=Europe/London:20230509T090000
DTEND;TZID=Europe/London:20230512T151500
DTSTAMP:20260421T140819
CREATED:20230331T110150Z
LAST-MODIFIED:20230331T110150Z
UID:23855-1683622800-1683904500@stmarysdenton.com
SUMMARY:Y6 SATS
DESCRIPTION:
URL:https://stmarysdenton.com/event/y6-sats/
END:VEVENT
BEGIN:VEVENT
DTSTART;TZID=Europe/London:20230508T080000
DTEND;TZID=Europe/London:20230508T170000
DTSTAMP:20260421T140819
CREATED:20230331T105951Z
LAST-MODIFIED:20230331T105951Z
UID:23853-1683532800-1683565200@stmarysdenton.com
SUMMARY:BANK HOLIDAY - School is closed
DESCRIPTION:
URL:https://stmarysdenton.com/event/bank-holiday-school-is-closed/
END:VEVENT
BEGIN:VEVENT
DTSTART;TZID=Europe/London:20230504T090500
DTEND;TZID=Europe/London:20230504T093000
DTSTAMP:20260421T140819
CREATED:20230331T105838Z
LAST-MODIFIED:20230331T105838Z
UID:23849-1683191100-1683192600@stmarysdenton.com
SUMMARY:Y3 Class Prayer and Liturgy (assembly) (9.05am - School Hall)
DESCRIPTION:
URL:https://stmarysdenton.com/event/y3-class-prayer-and-liturgy-assembly-9-05am-school-hall/
END:VEVENT
BEGIN:VEVENT
DTSTART;TZID=Europe/London:20230503T153000
DTEND;TZID=Europe/London:20230503T190000
DTSTAMP:20260421T140819
CREATED:20230331T105731Z
LAST-MODIFIED:20230331T105731Z
UID:23847-1683127800-1683140400@stmarysdenton.com
SUMMARY:Y3 Sacramental programme - Children's session (3.30pm and 6.30pm - Parish Hall)
DESCRIPTION:
URL:https://stmarysdenton.com/event/y3-sacramental-programme-childrens-session-3-30pm-and-6-30pm-parish-hall/
END:VEVENT
BEGIN:VEVENT
DTSTART;TZID=Europe/London:20230503T153000
DTEND;TZID=Europe/London:20230503T163000
DTSTAMP:20260421T140819
CREATED:20230125T155450Z
LAST-MODIFIED:20230125T155450Z
UID:23481-1683127800-1683131400@stmarysdenton.com
SUMMARY:Sacramental Programme: Session 6 - Bread to offer Fruit of the Vine (St. Mary's Parish Hall)
DESCRIPTION:
URL:https://stmarysdenton.com/event/sacramental-programme-session-6-bread-to-offer-fruit-of-the-vine-st-marys-parish-hall/
END:VEVENT
BEGIN:VEVENT
DTSTART;TZID=Europe/London:20230503T093000
DTEND;TZID=Europe/London:20230503T103000
DTSTAMP:20260421T140819
CREATED:20230331T105545Z
LAST-MODIFIED:20230331T105605Z
UID:23844-1683106200-1683109800@stmarysdenton.com
SUMMARY:Y1 and Y5 to attend the Parish Weekday Mass (9.30am St Mary's Church)
DESCRIPTION:
URL:https://stmarysdenton.com/event/y1-and-y5-to-attend-the-parish-weekday-mass-9-30am-st-marys-church/
END:VEVENT
BEGIN:VEVENT
DTSTART;TZID=Europe/London:20230502T080000
DTEND;TZID=Europe/London:20230531T170000
DTSTAMP:20260421T140819
CREATED:20230331T105422Z
LAST-MODIFIED:20230331T105422Z
UID:23842-1683014400-1685552400@stmarysdenton.com
SUMMARY:Y2 SATs (Month of May)
DESCRIPTION:
URL:https://stmarysdenton.com/event/y2-sats-month-of-may/
END:VEVENT
BEGIN:VEVENT
DTSTART;TZID=Europe/London:20230501T080000
DTEND;TZID=Europe/London:20230501T170000
DTSTAMP:20260421T140819
CREATED:20230331T105241Z
LAST-MODIFIED:20230331T105301Z
UID:23839-1682928000-1682960400@stmarysdenton.com
SUMMARY:Bank Holiday - School is closed
DESCRIPTION:
URL:https://stmarysdenton.com/event/bank-holiday-2/
END:VEVENT
BEGIN:VEVENT
DTSTART;TZID=Europe/London:20230427T152000
DTEND;TZID=Europe/London:20230427T155000
DTSTAMP:20260421T140819
CREATED:20230331T104050Z
LAST-MODIFIED:20230331T104957Z
UID:23833-1682608800-1682610600@stmarysdenton.com
SUMMARY:Scholastic Book Fair (3.20pm-3.50pm - School Hall)
DESCRIPTION:
URL:https://stmarysdenton.com/event/scholastic-book-fair-3-20pm-3-50pm-school-hall-2/
END:VEVENT
BEGIN:VEVENT
DTSTART;TZID=Europe/London:20230427T090500
DTEND;TZID=Europe/London:20230427T093000
DTSTAMP:20260421T140819
CREATED:20230331T105205Z
LAST-MODIFIED:20230331T111736Z
UID:23837-1682586300-1682587800@stmarysdenton.com
SUMMARY:Y5 Class Prayer and Liturgy (assembly) (9.05am - School Hall)
DESCRIPTION:
URL:https://stmarysdenton.com/event/y5-class-prayer-and-liturgy-assembly-9-05am-school-hall/
END:VEVENT
BEGIN:VEVENT
DTSTART;TZID=Europe/London:20230426T153000
DTEND;TZID=Europe/London:20230426T190000
DTSTAMP:20260421T140819
CREATED:20230331T105102Z
LAST-MODIFIED:20230331T111526Z
UID:23835-1682523000-1682535600@stmarysdenton.com
SUMMARY:Y3 Sacramental Programme - Children's Session 5 (3.30pm and 6.30pm Parish Hall)
DESCRIPTION:
URL:https://stmarysdenton.com/event/y3-sacramental-programme-childrens-session-5-3-30pm-and-6-30pm-parish-hall/
END:VEVENT
BEGIN:VEVENT
DTSTART;TZID=Europe/London:20230426T153000
DTEND;TZID=Europe/London:20230426T163000
DTSTAMP:20260421T140819
CREATED:20230125T155402Z
LAST-MODIFIED:20230125T155402Z
UID:23479-1682523000-1682526600@stmarysdenton.com
SUMMARY:Sacramental Programme: Session 5 - The Word of the Lord (St. Mary's Parish Hall)
DESCRIPTION:
URL:https://stmarysdenton.com/event/sacramental-programme-session-5-the-word-of-the-lord-st-marys-parish-hall/
END:VEVENT
BEGIN:VEVENT
DTSTART;TZID=Europe/London:20230426T152000
DTEND;TZID=Europe/London:20230426T155000
DTSTAMP:20260421T140819
CREATED:20230331T104007Z
LAST-MODIFIED:20230331T104007Z
UID:23831-1682522400-1682524200@stmarysdenton.com
SUMMARY:Scholastic Book Fair (3.20pm-3.50pm - School Hall)
DESCRIPTION:
URL:https://stmarysdenton.com/event/scholastic-book-fair-3-20pm-3-50pm-school-hall/
END:VEVENT
BEGIN:VEVENT
DTSTART;TZID=Europe/London:20230425T152000
DTEND;TZID=Europe/London:20230425T155000
DTSTAMP:20260421T140819
CREATED:20230331T103206Z
LAST-MODIFIED:20230331T103223Z
UID:23828-1682436000-1682437800@stmarysdenton.com
SUMMARY:Scholastic Book Fair (3.20pm-3.50pm - School Hall)
DESCRIPTION:
URL:https://stmarysdenton.com/event/schlastic-book-fair-3-20pm-3-50pm-school-hall/
END:VEVENT
BEGIN:VEVENT
DTSTART;TZID=Europe/London:20230420T170000
DTEND;TZID=Europe/London:20230420T173000
DTSTAMP:20260421T140819
CREATED:20230331T103037Z
LAST-MODIFIED:20230331T103037Z
UID:23826-1682010000-1682011800@stmarysdenton.com
SUMMARY:Robinwood meeting for Y6 parents (5pm - School Hall)
DESCRIPTION:
URL:https://stmarysdenton.com/event/robinwood-meeting-for-y6-parents-5pm-school-hall/
END:VEVENT
BEGIN:VEVENT
DTSTART;TZID=Europe/London:20230418T085500
DTEND;TZID=Europe/London:20230418T085500
DTSTAMP:20260421T140819
CREATED:20230331T102909Z
LAST-MODIFIED:20230331T102909Z
UID:23824-1681808100-1681808100@stmarysdenton.com
SUMMARY:School re-opens for Summer 1
DESCRIPTION:
URL:https://stmarysdenton.com/event/school-re-opens-for-summer-1/
END:VEVENT
BEGIN:VEVENT
DTSTART;TZID=Europe/London:20230322T153000
DTEND;TZID=Europe/London:20230322T163000
DTSTAMP:20260421T140819
CREATED:20230125T155318Z
LAST-MODIFIED:20230125T155318Z
UID:23477-1679499000-1679502600@stmarysdenton.com
SUMMARY:Sacramental Programme: First Reconciliation (St. Mary's RC Church)
DESCRIPTION:
URL:https://stmarysdenton.com/event/sacramental-programme-first-reconciliation-st-marys-rc-church/
END:VEVENT
BEGIN:VEVENT
DTSTART;TZID=Europe/London:20230322T153000
DTEND;TZID=Europe/London:20230322T163000
DTSTAMP:20260421T140819
CREATED:20230125T155138Z
LAST-MODIFIED:20230125T155138Z
UID:23475-1679499000-1679502600@stmarysdenton.com
SUMMARY:Sacramental Programme: Session 4 - God helps me get it right (St. Mary's Parish Hall)
DESCRIPTION:
URL:https://stmarysdenton.com/event/sacramental-programme-session-4-god-helps-me-get-it-right-st-marys-parish-hall/
END:VEVENT
BEGIN:VEVENT
DTSTART;TZID=Europe/London:20230316T153000
DTEND;TZID=Europe/London:20230316T153000
DTSTAMP:20260421T140819
CREATED:20230111T104748Z
LAST-MODIFIED:20230111T104748Z
UID:23439-1678980600-1678980600@stmarysdenton.com
SUMMARY:KS1 & KS2 Parent Teacher Meetings
DESCRIPTION:
URL:https://stmarysdenton.com/event/ks1-ks2-parent-teacher-meetings-6/
END:VEVENT
BEGIN:VEVENT
DTSTART;TZID=Europe/London:20230315T153000
DTEND;TZID=Europe/London:20230315T163000
DTSTAMP:20260421T140819
CREATED:20230125T155038Z
LAST-MODIFIED:20230125T155038Z
UID:23473-1678894200-1678897800@stmarysdenton.com
SUMMARY:Sacramental Programme: Session 3 - Celebrating our rescue (St. Mary's Parish Hall)
DESCRIPTION:
URL:https://stmarysdenton.com/event/sacramental-programme-session-3-celebrating-our-rescue-st-marys-parish-hall/
END:VEVENT
BEGIN:VEVENT
DTSTART;TZID=Europe/London:20230314T153000
DTEND;TZID=Europe/London:20230314T153000
DTSTAMP:20260421T140819
CREATED:20230111T104712Z
LAST-MODIFIED:20230111T104731Z
UID:23437-1678807800-1678807800@stmarysdenton.com
SUMMARY:KS1 & KS2 Parent Teacher Meetings
DESCRIPTION:
URL:https://stmarysdenton.com/event/ks1-ks2-parent-teacher-meetings-5/
END:VEVENT
BEGIN:VEVENT
DTSTART;TZID=Europe/London:20230313T153000
DTEND;TZID=Europe/London:20230313T173000
DTSTAMP:20260421T140819
CREATED:20230111T104653Z
LAST-MODIFIED:20230111T104653Z
UID:23435-1678721400-1678728600@stmarysdenton.com
SUMMARY:KS1 & KS2 Parent Teacher Meetings
DESCRIPTION:
URL:https://stmarysdenton.com/event/ks1-ks2-parent-teacher-meetings-4/
END:VEVENT
BEGIN:VEVENT
DTSTART;TZID=Europe/London:20230309T153000
DTEND;TZID=Europe/London:20230309T153000
DTSTAMP:20260421T140819
CREATED:20230111T104617Z
LAST-MODIFIED:20230111T104617Z
UID:23433-1678375800-1678375800@stmarysdenton.com
SUMMARY:KS1 & KS2 Parent Teacher Meetings
DESCRIPTION:
URL:https://stmarysdenton.com/event/ks1-ks2-parent-teacher-meetings-3/
END:VEVENT
BEGIN:VEVENT
DTSTART;TZID=Europe/London:20230309T090500
DTEND;TZID=Europe/London:20230309T090500
DTSTAMP:20260421T140819
CREATED:20230111T104322Z
LAST-MODIFIED:20230111T104322Z
UID:23427-1678352700-1678352700@stmarysdenton.com
SUMMARY:Class Assembly (Y1)
DESCRIPTION:
URL:https://stmarysdenton.com/event/class-assembly-y1/
END:VEVENT
END:VCALENDAR