BEGIN:VCALENDAR
VERSION:2.0
PRODID:-//St. Mary&#039;s RC Primary and Nursery School - ECPv6.15.20//NONSGML v1.0//EN
CALSCALE:GREGORIAN
METHOD:PUBLISH
X-ORIGINAL-URL:https://stmarysdenton.com
X-WR-CALDESC:Events for St. Mary&#039;s RC Primary and Nursery School
REFRESH-INTERVAL;VALUE=DURATION:PT1H
X-Robots-Tag:noindex
X-PUBLISHED-TTL:PT1H
BEGIN:VTIMEZONE
TZID:Europe/London
BEGIN:DAYLIGHT
TZOFFSETFROM:+0000
TZOFFSETTO:+0100
TZNAME:BST
DTSTART:20210328T010000
END:DAYLIGHT
BEGIN:STANDARD
TZOFFSETFROM:+0100
TZOFFSETTO:+0000
TZNAME:GMT
DTSTART:20211031T010000
END:STANDARD
BEGIN:DAYLIGHT
TZOFFSETFROM:+0000
TZOFFSETTO:+0100
TZNAME:BST
DTSTART:20220327T010000
END:DAYLIGHT
BEGIN:STANDARD
TZOFFSETFROM:+0100
TZOFFSETTO:+0000
TZNAME:GMT
DTSTART:20221030T010000
END:STANDARD
BEGIN:DAYLIGHT
TZOFFSETFROM:+0000
TZOFFSETTO:+0100
TZNAME:BST
DTSTART:20230326T010000
END:DAYLIGHT
BEGIN:STANDARD
TZOFFSETFROM:+0100
TZOFFSETTO:+0000
TZNAME:GMT
DTSTART:20231029T010000
END:STANDARD
BEGIN:DAYLIGHT
TZOFFSETFROM:+0000
TZOFFSETTO:+0100
TZNAME:BST
DTSTART:20240331T010000
END:DAYLIGHT
BEGIN:STANDARD
TZOFFSETFROM:+0100
TZOFFSETTO:+0000
TZNAME:GMT
DTSTART:20241027T010000
END:STANDARD
END:VTIMEZONE
BEGIN:VEVENT
DTSTART;TZID=Europe/London:20230308T153000
DTEND;TZID=Europe/London:20230308T163000
DTSTAMP:20260421T180120
CREATED:20230125T154950Z
LAST-MODIFIED:20230125T154950Z
UID:23471-1678289400-1678293000@stmarysdenton.com
SUMMARY:Sacramental Programme: Session 2 - Lord have mercy (St. Mary's Parish Hall)
DESCRIPTION:
URL:https://stmarysdenton.com/event/sacramental-programme-session-2-lord-have-mercy-st-marys-parish-hall/
END:VEVENT
BEGIN:VEVENT
DTSTART;TZID=Europe/London:20230307T153000
DTEND;TZID=Europe/London:20230307T153000
DTSTAMP:20260421T180120
CREATED:20230111T104551Z
LAST-MODIFIED:20230111T104551Z
UID:23431-1678203000-1678203000@stmarysdenton.com
SUMMARY:KS1 & KS2 Parent Teacher Meetings
DESCRIPTION:
URL:https://stmarysdenton.com/event/ks1-ks2-parent-teacher-meetings-2/
END:VEVENT
BEGIN:VEVENT
DTSTART;TZID=Europe/London:20230306T153000
DTEND;TZID=Europe/London:20230306T153000
DTSTAMP:20260421T180120
CREATED:20230111T104519Z
LAST-MODIFIED:20230111T104519Z
UID:23429-1678116600-1678116600@stmarysdenton.com
SUMMARY:KS1 & KS2 Parent Teacher Meetings
DESCRIPTION:
URL:https://stmarysdenton.com/event/ks1-ks2-parent-teacher-meetings/
END:VEVENT
BEGIN:VEVENT
DTSTART;TZID=Europe/London:20230227T084500
DTEND;TZID=Europe/London:20230227T084500
DTSTAMP:20260421T180120
CREATED:20230111T104252Z
LAST-MODIFIED:20230111T104252Z
UID:23425-1677487500-1677487500@stmarysdenton.com
SUMMARY:School re-opens for Spring term 2
DESCRIPTION:
URL:https://stmarysdenton.com/event/school-re-opens-for-spring-term-2/
END:VEVENT
BEGIN:VEVENT
DTSTART;TZID=Europe/London:20230217T151500
DTEND;TZID=Europe/London:20230217T151500
DTSTAMP:20260421T180120
CREATED:20230111T104205Z
LAST-MODIFIED:20230111T104205Z
UID:23423-1676646900-1676646900@stmarysdenton.com
SUMMARY:School closes for half term
DESCRIPTION:
URL:https://stmarysdenton.com/event/school-closes-for-half-term-8/
END:VEVENT
BEGIN:VEVENT
DTSTART;TZID=Europe/London:20230216T090500
DTEND;TZID=Europe/London:20230216T090500
DTSTAMP:20260421T180120
CREATED:20230111T104126Z
LAST-MODIFIED:20230111T104126Z
UID:23421-1676538300-1676538300@stmarysdenton.com
SUMMARY:Class Assembly (Y2)
DESCRIPTION:
URL:https://stmarysdenton.com/event/class-assembly-y2/
END:VEVENT
BEGIN:VEVENT
DTSTART;TZID=Europe/London:20230215T153000
DTEND;TZID=Europe/London:20230215T153000
DTSTAMP:20260421T180120
CREATED:20230125T154751Z
LAST-MODIFIED:20230125T154751Z
UID:23469-1676475000-1676475000@stmarysdenton.com
SUMMARY:Sacramental Programme: Session 1 - In the name of the Father (St. Mary's Parish Hall)
DESCRIPTION:
URL:https://stmarysdenton.com/event/sacramental-programme-session-1-in-the-name-of-the-father-st-marys-parish-hall/
END:VEVENT
BEGIN:VEVENT
DTSTART;TZID=Europe/London:20230209T090500
DTEND;TZID=Europe/London:20230209T090500
DTSTAMP:20260421T180120
CREATED:20230111T104100Z
LAST-MODIFIED:20230111T104100Z
UID:23419-1675933500-1675933500@stmarysdenton.com
SUMMARY:Class Assembly (Y3)
DESCRIPTION:
URL:https://stmarysdenton.com/event/class-assembly-y3-3/
END:VEVENT
BEGIN:VEVENT
DTSTART;TZID=Europe/London:20230207T080000
DTEND;TZID=Europe/London:20230207T080000
DTSTAMP:20260421T180120
CREATED:20230111T104032Z
LAST-MODIFIED:20230111T104032Z
UID:23417-1675756800-1675756800@stmarysdenton.com
SUMMARY:Safer Internet Day
DESCRIPTION:
URL:https://stmarysdenton.com/event/safer-internet-day-4/
END:VEVENT
BEGIN:VEVENT
DTSTART;TZID=Europe/London:20230202T090500
DTEND;TZID=Europe/London:20230202T090500
DTSTAMP:20260421T180120
CREATED:20230111T104007Z
LAST-MODIFIED:20230111T104007Z
UID:23415-1675328700-1675328700@stmarysdenton.com
SUMMARY:Class Assembly (Y4)
DESCRIPTION:
URL:https://stmarysdenton.com/event/class-assembly-y4/
END:VEVENT
BEGIN:VEVENT
DTSTART;TZID=Europe/London:20230126T090500
DTEND;TZID=Europe/London:20230126T090500
DTSTAMP:20260421T180120
CREATED:20230111T103926Z
LAST-MODIFIED:20230111T103926Z
UID:23413-1674723900-1674723900@stmarysdenton.com
SUMMARY:Class Assembly (Y5)
DESCRIPTION:
URL:https://stmarysdenton.com/event/class-assembly-y5/
END:VEVENT
BEGIN:VEVENT
DTSTART;TZID=Europe/London:20230124T080000
DTEND;TZID=Europe/London:20230124T080000
DTSTAMP:20260421T180120
CREATED:20230111T103848Z
LAST-MODIFIED:20230111T103848Z
UID:23411-1674547200-1674547200@stmarysdenton.com
SUMMARY:Mini Medics Workshops for Y5 & Y6 (times to be confirmed)
DESCRIPTION:
URL:https://stmarysdenton.com/event/mini-medics-workshops-for-y5-y6-times-to-be-confirmed/
END:VEVENT
BEGIN:VEVENT
DTSTART;TZID=Europe/London:20230123T090000
DTEND;TZID=Europe/London:20230123T090000
DTSTAMP:20260421T180120
CREATED:20230111T105051Z
LAST-MODIFIED:20230111T105329Z
UID:23441-1674464400-1674464400@stmarysdenton.com
SUMMARY:Bookstart meeting for F1 parents in the School Hall.
DESCRIPTION:
URL:https://stmarysdenton.com/event/bookstart-meeting-for-f1-parents-in-the-school-hall/
END:VEVENT
BEGIN:VEVENT
DTSTART;TZID=Europe/London:20230119T090500
DTEND;TZID=Europe/London:20230119T090500
DTSTAMP:20260421T180120
CREATED:20230111T103802Z
LAST-MODIFIED:20230111T103802Z
UID:23409-1674119100-1674119100@stmarysdenton.com
SUMMARY:Class Assembly (Y6)
DESCRIPTION:
URL:https://stmarysdenton.com/event/class-assembly-y6/
END:VEVENT
BEGIN:VEVENT
DTSTART;TZID=Europe/London:20230118T151500
DTEND;TZID=Europe/London:20230118T151500
DTSTAMP:20260421T180120
CREATED:20230111T103706Z
LAST-MODIFIED:20230111T103706Z
UID:23407-1674054900-1674054900@stmarysdenton.com
SUMMARY:Y6 Booster sessions to start
DESCRIPTION:
URL:https://stmarysdenton.com/event/y6-booster-sessions-to-start/
END:VEVENT
BEGIN:VEVENT
DTSTART;TZID=Europe/London:20230106T080000
DTEND;TZID=Europe/London:20230106T170000
DTSTAMP:20260421T180120
CREATED:20230111T103606Z
LAST-MODIFIED:20230111T103606Z
UID:23405-1672992000-1673024400@stmarysdenton.com
SUMMARY:Y2 & KS2 to attend Feast of the Epiphany Mass (St. Mary's RC Church)
DESCRIPTION:
URL:https://stmarysdenton.com/event/y2-ks2-to-attend-feast-of-the-epiphany-mass-st-marys-rc-church/
END:VEVENT
BEGIN:VEVENT
DTSTART;TZID=Europe/London:20221129T160000
DTEND;TZID=Europe/London:20221129T171500
DTSTAMP:20260421T180120
CREATED:20221103T110833Z
LAST-MODIFIED:20221103T110839Z
UID:23068-1669737600-1669742100@stmarysdenton.com
SUMMARY:EYFS Open Evening 2023
DESCRIPTION:Open Evening for parents considering a Reception place for their children in September 2023. From 4.00pm to 5.15pm on a drop in basis.
URL:https://stmarysdenton.com/event/eyfs-open-evening-2023/
END:VEVENT
BEGIN:VEVENT
DTSTART;TZID=Europe/London:20221110T090500
DTEND;TZID=Europe/London:20221110T093000
DTSTAMP:20260421T180120
CREATED:20220907T153753Z
LAST-MODIFIED:20220907T153804Z
UID:22951-1668071100-1668072600@stmarysdenton.com
SUMMARY:Y1 Class Assembly - (Y1 parents are welcome).
DESCRIPTION:
URL:https://stmarysdenton.com/event/y1-class-assembly-y1-parents-are-welcome/
END:VEVENT
BEGIN:VEVENT
DTSTART;TZID=Europe/London:20221020T090500
DTEND;TZID=Europe/London:20221020T093000
DTSTAMP:20260421T180120
CREATED:20220907T153636Z
LAST-MODIFIED:20220907T153706Z
UID:22949-1666256700-1666258200@stmarysdenton.com
SUMMARY:Y2 Class Assembly (Y2 parents are welcome)
DESCRIPTION:
URL:https://stmarysdenton.com/event/y2-class-assembly-y2-parents-are-welcome/
END:VEVENT
BEGIN:VEVENT
DTSTART;TZID=Europe/London:20221017T090000
DTEND;TZID=Europe/London:20221018T150000
DTSTAMP:20260421T180120
CREATED:20220912T093117Z
LAST-MODIFIED:20220912T093117Z
UID:22966-1665997200-1666105200@stmarysdenton.com
SUMMARY:Y6 Bikeability
DESCRIPTION:
URL:https://stmarysdenton.com/event/y6-bikeability/
END:VEVENT
BEGIN:VEVENT
DTSTART;TZID=Europe/London:20221013T090500
DTEND;TZID=Europe/London:20221013T093000
DTSTAMP:20260421T180120
CREATED:20220907T153456Z
LAST-MODIFIED:20220907T153456Z
UID:22945-1665651900-1665653400@stmarysdenton.com
SUMMARY:Y3 Class Assembly - (Y3 parents are welcome)
DESCRIPTION:
URL:https://stmarysdenton.com/event/y3-class-assembly-y3-parents-are-welcome/
END:VEVENT
BEGIN:VEVENT
DTSTART;TZID=Europe/London:20221007T090000
DTEND;TZID=Europe/London:20221007T170000
DTSTAMP:20260421T180120
CREATED:20220907T153407Z
LAST-MODIFIED:20220907T153407Z
UID:22943-1665133200-1665162000@stmarysdenton.com
SUMMARY:CAFOD Family Fast Day
DESCRIPTION:
URL:https://stmarysdenton.com/event/cafod-family-fast-day/
END:VEVENT
BEGIN:VEVENT
DTSTART;TZID=Europe/London:20221006T090500
DTEND;TZID=Europe/London:20221006T093000
DTSTAMP:20260421T180120
CREATED:20220907T153303Z
LAST-MODIFIED:20220907T153303Z
UID:22941-1665047100-1665048600@stmarysdenton.com
SUMMARY:Y4 Class Assembly - (Y4 parents are welcome)
DESCRIPTION:
URL:https://stmarysdenton.com/event/y4-class-assembly-y4-parents-are-welcome/
END:VEVENT
BEGIN:VEVENT
DTSTART;TZID=Europe/London:20221004T160000
DTEND;TZID=Europe/London:20221004T163000
DTSTAMP:20260421T180120
CREATED:20220907T152734Z
LAST-MODIFIED:20220907T152734Z
UID:22939-1664899200-1664901000@stmarysdenton.com
SUMMARY:Induction meeting for F2 parents
DESCRIPTION:
URL:https://stmarysdenton.com/event/induction-meeting-for-f2-parents/
END:VEVENT
BEGIN:VEVENT
DTSTART;TZID=Europe/London:20221004T111500
DTEND;TZID=Europe/London:20221004T121500
DTSTAMP:20260421T180120
CREATED:20220907T152452Z
LAST-MODIFIED:20220907T152509Z
UID:22936-1664882100-1664885700@stmarysdenton.com
SUMMARY:Induction meeting for F1 parents
DESCRIPTION:
URL:https://stmarysdenton.com/event/induction-meeting-for-f1-parents-curriculum/
END:VEVENT
BEGIN:VEVENT
DTSTART;TZID=Europe/London:20221004T090000
DTEND;TZID=Europe/London:20221004T120000
DTSTAMP:20260421T180120
CREATED:20220907T153529Z
LAST-MODIFIED:20220912T092651Z
UID:22947-1664874000-1664884800@stmarysdenton.com
SUMMARY:Flu Vaccinations
DESCRIPTION:
URL:https://stmarysdenton.com/event/flu-vaccinations-2/
END:VEVENT
BEGIN:VEVENT
DTSTART;TZID=Europe/London:20221003T090000
DTEND;TZID=Europe/London:20221003T170000
DTSTAMP:20260421T180120
CREATED:20220907T152318Z
LAST-MODIFIED:20220907T152318Z
UID:22932-1664787600-1664816400@stmarysdenton.com
SUMMARY:Black History Month
DESCRIPTION:
URL:https://stmarysdenton.com/event/black-history-month/
END:VEVENT
BEGIN:VEVENT
DTSTART;TZID=Europe/London:20221003T080000
DTEND;TZID=Europe/London:20221003T170000
DTSTAMP:20260421T180120
CREATED:20220907T152334Z
LAST-MODIFIED:20220907T152334Z
UID:22934-1664784000-1664816400@stmarysdenton.com
SUMMARY:Month of the Holy Rosary
DESCRIPTION:
URL:https://stmarysdenton.com/event/month-of-the-holy-rosary/
END:VEVENT
BEGIN:VEVENT
DTSTART;TZID=Europe/London:20220930T080000
DTEND;TZID=Europe/London:20220930T170000
DTSTAMP:20260421T180120
CREATED:20220907T152231Z
LAST-MODIFIED:20220907T152231Z
UID:22930-1664524800-1664557200@stmarysdenton.com
SUMMARY:Macmillan coffee morning and cake sale (details to be confirmed)
DESCRIPTION:
URL:https://stmarysdenton.com/event/macmillan-coffee-morning-and-cake-sale-details-to-be-confirmed/
END:VEVENT
BEGIN:VEVENT
DTSTART;TZID=Europe/London:20220929T090500
DTEND;TZID=Europe/London:20220929T093000
DTSTAMP:20260421T180120
CREATED:20220907T152136Z
LAST-MODIFIED:20220907T152136Z
UID:22928-1664442300-1664443800@stmarysdenton.com
SUMMARY:Y5 Class Assembly (Y5 parents are welcome).
DESCRIPTION:
URL:https://stmarysdenton.com/event/y5-class-assembly-y5-parents-are-welcome/
END:VEVENT
END:VCALENDAR